BEGIN:VCALENDAR
VERSION:2.0
PRODID:-//公益社団法人 日本鋳造工学会 - ECPv6.7.0//NONSGML v1.0//EN
CALSCALE:GREGORIAN
METHOD:PUBLISH
X-WR-CALNAME:公益社団法人 日本鋳造工学会
X-ORIGINAL-URL:https://jfs.or.jp
X-WR-CALDESC:公益社団法人 日本鋳造工学会 のイベント
REFRESH-INTERVAL;VALUE=DURATION:PT1H
X-Robots-Tag:noindex
X-PUBLISHED-TTL:PT1H
BEGIN:VTIMEZONE
TZID:Asia/Tokyo
BEGIN:STANDARD
TZOFFSETFROM:+0900
TZOFFSETTO:+0900
TZNAME:JST
DTSTART:20240101T000000
END:STANDARD
END:VTIMEZONE
BEGIN:VEVENT
DTSTART;VALUE=DATE:20240419
DTEND;VALUE=DATE:20240420
DTSTAMP:20260420T132640
CREATED:20240625T065430Z
LAST-MODIFIED:20240625T065430Z
UID:16585-1713484800-1713571199@jfs.or.jp
SUMMARY:2024年度関東支部総会及び第35回加山記念講演会
DESCRIPTION:ハイブリッド開催\n会場：早稲田大学西早稲田キャンパス/オンライン：Zoomミーティング\n関東支部\n\n≫ 詳細情報
URL:https://jfs.or.jp/event/2024%e5%b9%b4%e5%ba%a6%e9%96%a2%e6%9d%b1%e6%94%af%e9%83%a8%e7%b7%8f%e4%bc%9a%e5%8f%8a%e3%81%b3%e7%ac%ac35%e5%9b%9e%e5%8a%a0%e5%b1%b1%e8%a8%98%e5%bf%b5%e8%ac%9b%e6%bc%94%e4%bc%9a/
CATEGORIES:鋳造工学会関連イベント
END:VEVENT
BEGIN:VEVENT
DTSTART;VALUE=DATE:20240418
DTEND;VALUE=DATE:20240420
DTSTAMP:20260420T132640
CREATED:20240625T065337Z
LAST-MODIFIED:20240625T065337Z
UID:16583-1713398400-1713571199@jfs.or.jp
SUMMARY:東北支部 第49回福島大会
DESCRIPTION:会場：エルティ ウェディング・パーティー エンポリアム\n東北支部\n\n≫ 詳細情報
URL:https://jfs.or.jp/event/%e6%9d%b1%e5%8c%97%e6%94%af%e9%83%a8-%e7%ac%ac49%e5%9b%9e%e7%a6%8f%e5%b3%b6%e5%a4%a7%e4%bc%9a/
CATEGORIES:鋳造工学会関連イベント
END:VEVENT
BEGIN:VEVENT
DTSTART;VALUE=DATE:20240321
DTEND;VALUE=DATE:20240322
DTSTAMP:20260420T132640
CREATED:20240625T065236Z
LAST-MODIFIED:20240625T065236Z
UID:16580-1710979200-1711065599@jfs.or.jp
SUMMARY:第5回鋳造ロボットセミナー基礎編
DESCRIPTION:会場：Industrial Automation Technology Center \n日本鋳造工学会/鋳造設備研究部会 \n≫ 詳細情報
URL:https://jfs.or.jp/event/%e7%ac%ac5%e5%9b%9e%e9%8b%b3%e9%80%a0%e3%83%ad%e3%83%9c%e3%83%83%e3%83%88%e3%82%bb%e3%83%9f%e3%83%8a%e3%83%bc%e5%9f%ba%e7%a4%8e%e7%b7%a8/
LOCATION:Industrial Automation Technology Center
CATEGORIES:鋳造工学会関連イベント
END:VEVENT
BEGIN:VEVENT
DTSTART;VALUE=DATE:20240305
DTEND;VALUE=DATE:20240306
DTSTAMP:20260420T132640
CREATED:20240625T065043Z
LAST-MODIFIED:20240625T065043Z
UID:16576-1709596800-1709683199@jfs.or.jp
SUMMARY:第31回関西鋳造懇話会
DESCRIPTION:ハイブリッド開催\n会場：近畿大学東大阪キャンパス/\nオンライン\n関西支部\n\n≫ 詳細情報
URL:https://jfs.or.jp/event/%e7%ac%ac31%e5%9b%9e%e9%96%a2%e8%a5%bf%e9%8b%b3%e9%80%a0%e6%87%87%e8%a9%b1%e4%bc%9a/
CATEGORIES:鋳造工学会関連イベント
END:VEVENT
BEGIN:VEVENT
DTSTART;TZID=Asia/Tokyo:20240301T133000
DTEND;TZID=Asia/Tokyo:20240301T163500
DTSTAMP:20260420T132640
CREATED:20240625T063954Z
LAST-MODIFIED:20240625T063954Z
UID:16564-1709299800-1709310900@jfs.or.jp
SUMMARY:技術講習会「【温故知新】古代の鋳造技術を知る」(関西支部　第17回鋳造セミナー）
DESCRIPTION:ハイブリッド開催\n会場：兵庫県立工業技術センター 研究本館２階 セミナー室\nオンライン：Zoomミーティング\n関西支部\n\n≫ 詳細情報
URL:https://jfs.or.jp/event/%e6%8a%80%e8%a1%93%e8%ac%9b%e7%bf%92%e4%bc%9a%e3%80%8c%e3%80%90%e6%b8%a9%e6%95%85%e7%9f%a5%e6%96%b0%e3%80%91%e5%8f%a4%e4%bb%a3%e3%81%ae%e9%8b%b3%e9%80%a0%e6%8a%80%e8%a1%93%e3%82%92%e7%9f%a5%e3%82%8b/
LOCATION:兵庫県立工業技術センター 研究本館２階 セミナー室 ＋ Zoom\, 兵庫県神戸市須磨区行平町 3-1-12\, 日本
CATEGORIES:鋳造工学会関連イベント
END:VEVENT
END:VCALENDAR