BEGIN:VCALENDAR
VERSION:2.0
PRODID:-//公益社団法人 日本鋳造工学会 - ECPv6.7.0//NONSGML v1.0//EN
CALSCALE:GREGORIAN
METHOD:PUBLISH
X-WR-CALNAME:公益社団法人 日本鋳造工学会
X-ORIGINAL-URL:https://jfs.or.jp
X-WR-CALDESC:公益社団法人 日本鋳造工学会 のイベント
REFRESH-INTERVAL;VALUE=DURATION:PT1H
X-Robots-Tag:noindex
X-PUBLISHED-TTL:PT1H
BEGIN:VTIMEZONE
TZID:Asia/Tokyo
BEGIN:STANDARD
TZOFFSETFROM:+0900
TZOFFSETTO:+0900
TZNAME:JST
DTSTART:20240101T000000
END:STANDARD
END:VTIMEZONE
BEGIN:VEVENT
DTSTART;VALUE=DATE:20240418
DTEND;VALUE=DATE:20240420
DTSTAMP:20260420T202207
CREATED:20240625T065337Z
LAST-MODIFIED:20240625T065337Z
UID:16583-1713398400-1713571199@jfs.or.jp
SUMMARY:東北支部 第49回福島大会
DESCRIPTION:会場：エルティ ウェディング・パーティー エンポリアム\n東北支部\n\n≫ 詳細情報
URL:https://jfs.or.jp/event/%e6%9d%b1%e5%8c%97%e6%94%af%e9%83%a8-%e7%ac%ac49%e5%9b%9e%e7%a6%8f%e5%b3%b6%e5%a4%a7%e4%bc%9a/
CATEGORIES:鋳造工学会関連イベント
END:VEVENT
END:VCALENDAR