BEGIN:VCALENDAR
VERSION:2.0
PRODID:-//公益社団法人 日本鋳造工学会 - ECPv6.7.0//NONSGML v1.0//EN
CALSCALE:GREGORIAN
METHOD:PUBLISH
X-ORIGINAL-URL:https://jfs.or.jp
X-WR-CALDESC:公益社団法人 日本鋳造工学会 のイベント
REFRESH-INTERVAL;VALUE=DURATION:PT1H
X-Robots-Tag:noindex
X-PUBLISHED-TTL:PT1H
BEGIN:VTIMEZONE
TZID:Asia/Tokyo
BEGIN:STANDARD
TZOFFSETFROM:+0900
TZOFFSETTO:+0900
TZNAME:JST
DTSTART:20240101T000000
END:STANDARD
END:VTIMEZONE
BEGIN:VEVENT
DTSTART;TZID=Asia/Tokyo:20240727T092500
DTEND;TZID=Asia/Tokyo:20240727T165000
DTSTAMP:20260420T151435
CREATED:20240627T223745Z
LAST-MODIFIED:20240627T223745Z
UID:16619-1722072300-1722099000@jfs.or.jp
SUMMARY:アルミニウム鋳造講座Ⅰ
DESCRIPTION:シャインズ（愛知県刈谷市）/オンライン：zoomミーティング\n東海支部\n\n≫ 詳細情報
URL:https://jfs.or.jp/event/%e3%82%a2%e3%83%ab%e3%83%9f%e3%83%8b%e3%82%a6%e3%83%a0%e9%8b%b3%e9%80%a0%e8%ac%9b%e5%ba%a7%e2%85%b0/
LOCATION:刈谷シャインズ 3Fホール\, 愛知県刈谷市東陽町二丁目18番
CATEGORIES:鋳造工学会関連イベント
END:VEVENT
END:VCALENDAR