BEGIN:VCALENDAR
VERSION:2.0
PRODID:-//公益社団法人 日本鋳造工学会 - ECPv6.7.0//NONSGML v1.0//EN
CALSCALE:GREGORIAN
METHOD:PUBLISH
X-WR-CALNAME:公益社団法人 日本鋳造工学会
X-ORIGINAL-URL:https://jfs.or.jp
X-WR-CALDESC:公益社団法人 日本鋳造工学会 のイベント
REFRESH-INTERVAL;VALUE=DURATION:PT1H
X-Robots-Tag:noindex
X-PUBLISHED-TTL:PT1H
BEGIN:VTIMEZONE
TZID:Asia/Tokyo
BEGIN:STANDARD
TZOFFSETFROM:+0900
TZOFFSETTO:+0900
TZNAME:JST
DTSTART:20240101T000000
END:STANDARD
END:VTIMEZONE
BEGIN:VEVENT
DTSTART;TZID=Asia/Tokyo:20240730T134500
DTEND;TZID=Asia/Tokyo:20240730T190000
DTSTAMP:20260420T131334
CREATED:20240627T224157Z
LAST-MODIFIED:20240704T013949Z
UID:16621-1722347100-1722366000@jfs.or.jp
SUMMARY:第40回関西鋳造懇話会
DESCRIPTION:シャインズ（愛知県刈谷市）/オンライン：zoomミーティング\n関西支部\n\n≫ 詳細情報 \n 第40回関西鋳造懇話会 \n主催団体：（公社）日本鋳造工学会関西支部 \n〇開催日時　\n2024年7月30日（火）　講演会 13：45 ～ 16：45 交流会 17：00 ～ 19：00 \n〇場所（名称・所在地）\nハイブリッド式（講演会：たかつガーデン，交流会：杯杯天山閣（大阪市）／オンライン（Zoom）） \n〇参加費\n会場：会員3\,000 円，学生1\,000 円，非会員6\,000 円，関西支部賛助会員会社は１名無料（資料，交流会費含む）．オンライン：1\,000円　(会員のみ) \n〇申込方法\n氏名，勤務先（所属先），所属（所属部課），E-mailアドレス，会員資格，\n参加形態（対面／オンライン），交流会参加の有無（対面参加のみ）を明記し，\n電子メールにて申し込む \n〇申込締め切り\n7月18日（木）厳守 \n〇申込・問合せ先\n関西鋳造懇話会事務局　jfs-konwakai@jfs-osaka.jp \n〇内容\n下記の通り第40回関西鋳造懇話会を開催いたします．今回はステンレス鋼の表面処理と高温組織、チタン合金の溶解と材料特性、アルミニウム合金の固液共存体とその変形過程に関する発表を企画いたしました．会員各位のご参加をいただきますよう，お願い申し上げます．\n①「浸炭処理したSUS304の再加熱に伴う高温腐食組織生成について」（三共合金鋳造所）橘堂 忠，②「Ti合金の低ヤング率化のための元素選定と浮揚溶解法による溶製・特性評価事例」（近畿大学）仲井正昭，③「Al-Cu合金の固液共存領域の変形挙動の三次元・時間分解X線イメージング」（京都大学）○鳴海大翔，庄司雄大，笹田智也，安田秀幸，④交流会 \n〇情報掲載HP\nURL：http://jfs-kansai.jp/　(関西支部ホームページ）
URL:https://jfs.or.jp/event/%e7%ac%ac40%e5%9b%9e%e9%96%a2%e8%a5%bf%e9%8b%b3%e9%80%a0%e6%87%87%e8%a9%b1%e4%bc%9a/
LOCATION:たかつガーデン\, 大阪市天王寺区東高津町 7 番 11 号\, 543-0021
CATEGORIES:鋳造工学会関連イベント
END:VEVENT
END:VCALENDAR