BEGIN:VCALENDAR
VERSION:2.0
PRODID:-//公益社団法人 日本鋳造工学会 - ECPv6.7.0//NONSGML v1.0//EN
CALSCALE:GREGORIAN
METHOD:PUBLISH
X-ORIGINAL-URL:https://jfs.or.jp
X-WR-CALDESC:公益社団法人 日本鋳造工学会 のイベント
REFRESH-INTERVAL;VALUE=DURATION:PT1H
X-Robots-Tag:noindex
X-PUBLISHED-TTL:PT1H
BEGIN:VTIMEZONE
TZID:Asia/Tokyo
BEGIN:STANDARD
TZOFFSETFROM:+0900
TZOFFSETTO:+0900
TZNAME:JST
DTSTART:20240101T000000
END:STANDARD
END:VTIMEZONE
BEGIN:VEVENT
DTSTART;TZID=Asia/Tokyo:20240830T150000
DTEND;TZID=Asia/Tokyo:20240830T163000
DTSTAMP:20260420T113245
CREATED:20240712T002156Z
LAST-MODIFIED:20240712T011326Z
UID:16776-1725030000-1725035400@jfs.or.jp
SUMMARY:現場鋳造技術の改善（関東支部　第112回講演会）
DESCRIPTION:東京都立産業技術研究センター本部（東京都江東区）／オンライン（Zoomミーティング）\n関東支部\n\n≫ 詳細情報 \n  \n 現場鋳造技術の改善（関東支部　第112回講演会） \n主催団体名:（公社）日本鋳造工学会関東支部 \n2024年8月30日(金) 15:00～16:35 \n〇場所（名称・所在地）\nハイブリッド式（東京都立産業技術研究センター本部（東京都江東区）／オンライン（Zoomミーティング）） \n〇参加費（会員・非会員等で参加費が異なる場合は具体的に）\n無料 \n〇定員\n60名 \n〇申込方法\nメールにて氏名，所属，メールアドレス，現地参加かオンライン参加，を記載の上，下記田崎までご連絡ください．メールアドレスは問い合わせ先をご覧ください． \n〇申込締め切り\n8月16日（金） \n〇申込・問合せ先\n青山学院大学 理工学部 機械創造工学科　田崎 良佑\n〒252-5258 神奈川県相模原市中央区淵野辺5-10-1\nTEL．042-759-6209 E-mail．tasaki_s@me.aoyama.ac.jp \n〇内容\n関東支部第112回講演会では，現場鋳造技術の改善事例を支部講演会として広く紹介し，鋳造業全体の技術向上に貢献していくことを目的としています．この事例紹介では，関東支部現場鋳造技術研究会の協力の下，下記3件の事例を紹介していただき，意見交換することで，参加者各位の現場鋳造技術の改善に役立てていくことを期待しています．\n①「中子型可動機構確認方法の改善」（（株）プロテリアル）新田佳祐，②「画像解析とセンシング技術活用による中子セットの自動化～匠の技の再現～」（（株）コヤマ）宮崎智也，③「砂型試作における鋳造シミュレーションシステムの活用事例」（株）コイワイ）橘洋志 \n〇情報掲載HP　URL\nhttp://www.j-imono.com/
URL:https://jfs.or.jp/event/%e7%8f%be%e5%a0%b4%e9%8b%b3%e9%80%a0%e6%8a%80%e8%a1%93%e3%81%ae%e6%94%b9%e5%96%84%ef%bc%88%e9%96%a2%e6%9d%b1%e6%94%af%e9%83%a8%e3%80%80%e7%ac%ac112%e5%9b%9e%e8%ac%9b%e6%bc%94%e4%bc%9a%ef%bc%89/
CATEGORIES:鋳造工学会関連イベント
END:VEVENT
END:VCALENDAR