BEGIN:VCALENDAR
VERSION:2.0
PRODID:-//公益社団法人 日本鋳造工学会 - ECPv6.7.0//NONSGML v1.0//EN
CALSCALE:GREGORIAN
METHOD:PUBLISH
X-ORIGINAL-URL:https://jfs.or.jp
X-WR-CALDESC:公益社団法人 日本鋳造工学会 のイベント
REFRESH-INTERVAL;VALUE=DURATION:PT1H
X-Robots-Tag:noindex
X-PUBLISHED-TTL:PT1H
BEGIN:VTIMEZONE
TZID:Asia/Tokyo
BEGIN:STANDARD
TZOFFSETFROM:+0900
TZOFFSETTO:+0900
TZNAME:JST
DTSTART:20240101T000000
END:STANDARD
END:VTIMEZONE
BEGIN:VEVENT
DTSTART;TZID=Asia/Tokyo:20240907T093000
DTEND;TZID=Asia/Tokyo:20240907T181000
DTSTAMP:20260420T113243
CREATED:20240627T224613Z
LAST-MODIFIED:20240704T021255Z
UID:16627-1725701400-1725732600@jfs.or.jp
SUMMARY:鋳鉄の中級講座
DESCRIPTION:シャインズ（愛知県刈谷市）/オンライン：zoomミーティング\n東海支部\n\n≫ 詳細情報 \n  \n鋳鉄の中級講座 \n主催団体名:(公社)日本鋳造工学会東海支部 \n〇開催日時\n2024年9月7日(土)　9：30～16：10 \n〇場所（名称・所在地）\nハイブリッド式（シャインズ（刈谷市）／オンライン（Zoomミーティング）） \n〇参加費（会員・非会員等で参加費が異なる場合は具体的に）\n正会員･維持会員：5\,000円，学生会員：無料，非会員：20\,000円 \n〇定員\n会場50名／オンライン200名程度 \n〇申込方法\n東海支部ホームページ（https://jfs-tokai.jp/）から申し込む \n〇申込締め切り\n8月16日（金） \n〇申込・問合せ先\n(公社)日本鋳造工学会東海支部　事務局　小林\n〒471-8571　愛知県豊田市トヨタ町1番地\nトヨタ自動車株式会社　素形材技術部　基盤開発室内\nTEL．050-3165-7590　FAX．0565-23-5775　E-mail．mn-jfs-tokai@mail.toyota.co.jp \n〇内容\n本講座は，鋳造に関する経験5年程度を想定し，「鋳鉄の基礎講座」の上級講座として開催します．鋳鉄製造に携わる技術者・技能者の支援育成をねらいに，鋳鉄製造に関する実務や品質管理実務をケーススタディを交えて解りやすく解説します．多数ご参加下さいますようご案内申し上げます（他支部からの参加も歓迎いたします）．\n①「有機鋳型と鋳型に起因する鋳物不良について」（(株)瓢屋)曽根孝明氏，②「鋳型管理技術と鋳型に起因する鋳物不良について；生型」（(株)マツバラ)川島浩一氏，③「鋳鉄の材質特性とその評価法」（近畿大学）淺野和典氏，④「鋳鉄溶解でのエネルギー使用実態とカーボンニュートラル対応へむけた省エネの取り組み」（元富士電機(株))林静男氏 \n〇情報掲載HP　URL\nhttps://jfs-tokai.jp \n〇その他特記事項\n本人確認を行うため，Webカメラ（PC，タブレット，スマホ付属のもので可）での顔
URL:https://jfs.or.jp/event/%e9%8b%b3%e9%89%84%e3%81%ae%e4%b8%ad%e7%b4%9a%e8%ac%9b%e5%ba%a7/
LOCATION:刈谷シャインズ 3Fホール\, 愛知県刈谷市東陽町二丁目18番
CATEGORIES:鋳造工学会関連イベント
END:VEVENT
END:VCALENDAR