BEGIN:VCALENDAR
VERSION:2.0
PRODID:-//公益社団法人 日本鋳造工学会 - ECPv6.7.0//NONSGML v1.0//EN
CALSCALE:GREGORIAN
METHOD:PUBLISH
X-WR-CALNAME:公益社団法人 日本鋳造工学会
X-ORIGINAL-URL:https://jfs.or.jp
X-WR-CALDESC:公益社団法人 日本鋳造工学会 のイベント
REFRESH-INTERVAL;VALUE=DURATION:PT1H
X-Robots-Tag:noindex
X-PUBLISHED-TTL:PT1H
BEGIN:VTIMEZONE
TZID:Asia/Tokyo
BEGIN:STANDARD
TZOFFSETFROM:+0900
TZOFFSETTO:+0900
TZNAME:JST
DTSTART:20240101T000000
END:STANDARD
END:VTIMEZONE
BEGIN:VEVENT
DTSTART;TZID=Asia/Tokyo:20241017T130000
DTEND;TZID=Asia/Tokyo:20241017T190000
DTSTAMP:20260420T074914
CREATED:20240829T024944Z
LAST-MODIFIED:20241016T023902Z
UID:17001-1729170000-1729191600@jfs.or.jp
SUMMARY:2024年度「愛知地区 鋳物技術講演会＆技術交流会」「愛知・静岡地区工場見学会」のご案内
DESCRIPTION:  \n拝啓　時下ますますご清祥の段，お慶び申し上げます．平素は日本鋳造工学会東海支部の活動に格別のご高配を賜り，厚く御礼申し上げます． \n東海支部では本部「第3期中長期ビジョン」に掲げられている「日本での“モノづくり”，“人づくり”に貢献し，鋳造業界を元気にする」という想いを受け，鋳造業界が取り組んでいるテーマを「3つのシンカ（深化・新化・進化）」+「親化」による仲間づくりを推進し，支部の学会活動を通じて会員の皆様のニーズ合わせて学会活動に参加できる環境づくりを進めています． \n　今回は，近年の社会経済における喫緊の課題となっているサーキュラーエコノミーに対応する企画として，「鋳造業界におけるサーキュラーエコノミーに対応する鋳造関連技術」をテーマに技術講演会を開催いたします．講演会終了後には技術交流会を開催いたします． \n　また，愛知・静岡地区それぞれの鋳物メーカー2社の工場見学会も併せて実施します．見学先企業での取り組みを見学させていただき，皆様と一緒に学ぶ場としたいと考えております． \n　ご多忙の中とは存じますが，ご参加くださいますようご案内申し上げます． \n敬具 \n【鋳物技術講演会】\n｜日時\n　2024年10月17日(木)　13:00～17:00 \n｜開催形式\nハイブリッド形式（会場 or リモートのどちらかを選択してお申込みください） \n｜現地会場\nシャインズ　愛知県刈谷市東陽町２丁目１８番地　TEL：0566-24-3348 \n｜オンライン \n【リモート】　Zoomウェビナー \n｜講義内容 \n別紙「講演プログラム」をご参照ください． \n｜募集定員\n【会場】　50名（先着順，定員に達し次第，リモートをご案内します） \n【リモート】　100名（先着順） \n※リモート参加について \n・リモート視聴をご希望の方は，当日参加するEメールアドレスを申込みフォームにご記入ください． \n・当日のウェビナーURLは後日，お申込み時のEメールアドレス宛にご案内します． \n・当日は開始15分前から入室できます \n｜参加費\n（消費税10 %込） \n・（公社）日本鋳造工学会　個人会員，維持会員　5\,000円／人 \n・（公社）日本鋳造工学会　学生会員　無料 \n・鋳物組合会員　5\,000円／人 \n・非会員　22\,000円／人 \n  \n【技術交流会】\n｜日時\n2024年10月17日(木)　17:15～19:00 \n｜現地会場\nシャインズ（技術講演会と同じ会場です） \n｜募集定員\n60名（先着順） \n｜参加費\n（消費税10 %込） \n・（公社）日本鋳造工学会　個人会員，維持会員　3\,500円／人 \n・非会員　5\,500円／人 \n  \n【工場見学会・愛知県】\n｜日時\n2024年10月18日(金)　8:30～17:00 \n｜集合場所\nJR刈谷駅北口東側　刈谷市産業振興センター前 \n｜集合時間\n8:30（厳守でお願いします） \n｜見学先\n別紙「工場見学会愛知」をご参照ください． \n｜定員\n30名（先着順） \n｜参加費\n消費税10 %込）： \n・（公社）日本鋳造工学会　個人会員，維持会員　10\,000円／人 \n  \n【工場見学会・静岡県】\n｜日時\n2024年10月18日(金)　8:35～17:00 \n｜集合場所\nJR豊橋駅　東口　豊橋信用金庫　駅前出張所前 \n｜集合時間\n8:35（厳守でお願いします） \n｜見学先\n別紙「工場見学会静岡」をご参照ください． \n｜定員\n25名（先着順） \n｜参加費\n消費税10 %込）： \n・（公社）日本鋳造工学会　個人会員，維持会員　10\,000円／人 \n  \n　＜工場見学注意事項＞ \n※ 工場見学会は（公社）日本鋳造工学会会員のみ参加可能です． \n※ お申込みいただいた場合でも見学先の都合で見学をご遠慮願う場合もあります． \n　 見学申込み受付後，ご遠慮いただく場合は事務局より連絡いたします． \n※交通事情により集合場所や時刻，順路，解散場所や時刻，その他を変更する場合が \nありますので，予めご了承願います． \n※各班とも申し込み順に受付け，定員になり次第締め切りとさせていただきます． \n※参加者が非常に少ない班は中止となり，他の班に移っていただく場合がありますので， \n予めご了承下さい． \n※代理者参加は認められませんので，予めご了承下さい．（見学先に予め参加者名簿を \n提示し，個人単位で見学許可を得る運用としているため） \n※工場見学時には，写真やビデオの撮影および録音などは一切禁止となっておりますので，予めご了承下さい． \n※参加者は，出発予定時刻の10分前までに所定の場所に集合し，長袖の服・安全靴・ \n眼鏡(保護)を着用ください． \n※申し込みの際の連絡先は見学者本人の工場見学当日の連絡先をお願いします． \n  \n【参加申込方法】\n｜申込⽅法\n東海支部ホームページ（https://jfs-tokai.jp/）よりお申込みください． \n※ 締切後にキャンセルされた場合の参加料の返却はできません． \n※ 申込は10月11日(金)までにお願いします． \n※ 送金は10月31日(木)までにお願いします． \n｜送金方法\n銀行振込　三菱UFJ銀行金山支店　普通預金口座　支店番号 288 \n　口座番号　1262063　　(公社) 日本鋳造工学会東海支部　ｼﾔ）ﾆﾎﾝﾁｭｳｿﾞｳｺｳｶﾞﾂｶｲ ﾄｳｶｲｼﾌﾞ \n※ 領収書は，銀行の振込受領証を持って代えさせていただきます． \n※ 振込手数料はご負担願います \n｜問い合わせ先\n〒471-8571　愛知県豊田市トヨタ町1番地 \nトヨタ自動車(株)　素形材技術部　基盤開発室内 \n(公社)日本鋳造工学会東海支部　事務局　（小林） \n TEL: 080-6986-6361，FAX: 0565-23-5775\nE-mail: mn-jfs-tokai(at)mail.toyota.co.jp　*(at)を@に変えて送信ください
URL:https://jfs.or.jp/event/2024%e5%b9%b4%e5%ba%a6%e3%80%8c%e6%84%9b%e7%9f%a5%e5%9c%b0%e5%8c%ba-%e9%8b%b3%e7%89%a9%e6%8a%80%e8%a1%93%e8%ac%9b%e6%bc%94%e4%bc%9a%ef%bc%86%e6%8a%80%e8%a1%93%e4%ba%a4%e6%b5%81%e4%bc%9a%e3%80%8d/
CATEGORIES:鋳造工学会関連イベント
END:VEVENT
BEGIN:VEVENT
DTSTART;VALUE=DATE:20241025
DTEND;VALUE=DATE:20241026
DTSTAMP:20260420T074914
CREATED:20240829T025053Z
LAST-MODIFIED:20240829T025546Z
UID:17003-1729814400-1729900799@jfs.or.jp
SUMMARY:特集募集「鋳造工学」第97巻第4号「キュポラのカーボンニュートラル」
DESCRIPTION:｜募集母体\n（公社）日本鋳造工学会　編集委員会 \n｜公募の概要\n　2050年カーボンニュートラル（以下，CN）の実現に向けて，様々な業界で脱炭素に対する取り組みが始まっています．これを実現するためには，エネルギーや交通・輸送分野だけでなく，製造，とくに鋳造の分野もこれまで以上に技術革新を推進し，使用するエネルギーと製造方法を大きく転換させていくことが重要となります．この中で，コークスの燃焼に起因するCO2を排出するキュポラのCNが喫緊の課題となっています．その手段は，これまでは電気炉化が既定路線でしたが，近年，エネルギーの多様化が進み，石炭コークスをバイオマス燃料へ転換することによるCN化が多くの企業で検討され始めました． \n　そこで，「キュポラのカーボンニュートラル」をテーマとした特集号を企画いたします．キュポラの操業の最適化や最新設備、キュポラへのバイオマス燃料への置換や、バイオマス燃料の製造に関する取り組みの最前線，展望に関する研究論文，解説等を募集致しますので，多数の投稿をお願い申し上げます． \n｜日時\n研究論文，技術論文，技術報告，解説記事で，それぞれの執筆要領を参照ください．投稿要領にしたがって原稿を送付ください．投稿規程・執筆要領はHPに掲載しています． \n｜応募締め切り\n2024年10月25日（金） \n｜応募先・問い合わせ先\n〒108-0023　東京都港区芝浦4-15-33　芝浦清水ビル2階　 \n（公社）日本鋳造工学会　編集委員会 \nTEL03-6809-2303 　FAX:03-6809-2330　E-mail:jfs-henshu@jfs.or.jp（担当：鈴木） \n【情報掲載HP】https://www.fjs.or.jp/ \n 
URL:https://jfs.or.jp/event/%e7%89%b9%e9%9b%86%e5%8b%9f%e9%9b%86%e3%80%8c%e9%8b%b3%e9%80%a0%e5%b7%a5%e5%ad%a6%e3%80%8d%e7%ac%ac97%e5%b7%bb%e7%ac%ac4%e5%8f%b7%e3%80%8c%e3%82%ad%e3%83%a5%e3%83%9d%e3%83%a9%e3%81%ae%e3%82%ab/
CATEGORIES:鋳造工学会関連イベント,公募等
END:VEVENT
END:VCALENDAR