BEGIN:VCALENDAR
VERSION:2.0
PRODID:-//公益社団法人 日本鋳造工学会 - ECPv6.7.0//NONSGML v1.0//EN
CALSCALE:GREGORIAN
METHOD:PUBLISH
X-WR-CALNAME:公益社団法人 日本鋳造工学会
X-ORIGINAL-URL:https://jfs.or.jp
X-WR-CALDESC:公益社団法人 日本鋳造工学会 のイベント
REFRESH-INTERVAL;VALUE=DURATION:PT1H
X-Robots-Tag:noindex
X-PUBLISHED-TTL:PT1H
BEGIN:VTIMEZONE
TZID:Asia/Tokyo
BEGIN:STANDARD
TZOFFSETFROM:+0900
TZOFFSETTO:+0900
TZNAME:JST
DTSTART:20240101T000000
END:STANDARD
END:VTIMEZONE
BEGIN:VEVENT
DTSTART;TZID=Asia/Tokyo:20241121T090000
DTEND;TZID=Asia/Tokyo:20241121T170000
DTSTAMP:20260420T054711
CREATED:20241016T021154Z
LAST-MODIFIED:20241016T021428Z
UID:17176-1732179600-1732208400@jfs.or.jp
SUMMARY:第30回鋳鉄品の超音波試験技術者養成講習会＆再試験のご案内
DESCRIPTION:地方独立行政法人東京都立産業技術研究センター(江東区)\n日本鋳造工学会\n\n≫ 詳細情報 \n  \n第30回鋳鉄品の超音波試験技術者養成講習会＆再試験のご案内 \n主催団体名:日本鋳造工学会/日本鋳造協会/東京都立産業技術研究センター \n〇開催日時\n2024年11月21日(木)9時00分～18時30分\,11月22日(金)9時00分～17時00分 \n〇場所（名称・所在地）\n地方独立行政法人東京都立産業技術研究センター(江東区) \n〇参加費（会員・非会員等で参加費が異なる場合は具体的に）\n会員：55\,000円／人，非会員66\,000円／人 \n※1デジタル探傷器をご持参の方は11\,000円引きです（アナログ探傷器は対象外）．\n※2参加申込書の「持参デジタル探傷器」の欄にメーカー名と機種名をご記入ください．\n（注：探傷器は単機能器が原則です．フェーズドアレイなどの多機能機を除きます．） \n〇定員\n16名 \n〇申込方法\n詳細情報の「参加申込書」に必要事項を記入の上，FAX又はE-mailで送ってください． \n〇申し込み締め切り\n11月26日（火） \n〇問合せ先\n公益社団法人　日本鋳造工学会　UT講習会事務局（鹿毛） \nTEL:03-3436-4681，FAX:03-3437-1906，E-mail：hidehiko-kage(at)kc-kusaka.co.jp*(at)を@に変換 \n〇内容\n鋳鉄品の品質管理や品質保証の維持と向上には，非破壊試験・検査の適用が生産現場に要求されています．そこで，統計学的品質管理と破壊力学の基礎を学んだ超音波試験（UT）技術者の養成を目的とした講習会を下記のとおり開催します． \n本講習会は座学（半日）と実習（1.5日）の二日間の日程で実施します．「鋳鉄品の品質とは？」「超音波探傷試験の基礎」，「きずの有害/無害を破壊力学視点から判定」，「鋳鉄品における超音波特性の理解と習得」などを学び製造現場で正確なUT試験作業及び検査が出来る技術者の養成を目指しています． \n受講生全員に修了証書を授与し，講習会の最後に理解度確認試験（実技と筆記）の結果が優秀な方には，「合格証」を発行，後日会誌「鋳造工学」に氏名を発表します． \n受講対象者は次の方々です．(1) 鋳造工場で超音波試験/検査に携わる方，(2) 超音波試験/検査の原理・基礎技術を習得したい方，(3) 破壊力学の基礎を学びたい方 \n 
URL:https://jfs.or.jp/event/%e7%ac%ac30%e5%9b%9e%e9%8b%b3%e9%89%84%e5%93%81%e3%81%ae%e8%b6%85%e9%9f%b3%e6%b3%a2%e8%a9%a6%e9%a8%93%e6%8a%80%e8%a1%93%e8%80%85%e9%a4%8a%e6%88%90%e8%ac%9b%e7%bf%92%e4%bc%9a%ef%bc%86%e5%86%8d%e8%a9%a6/
CATEGORIES:鋳造工学会関連イベント
END:VEVENT
BEGIN:VEVENT
DTSTART;TZID=Asia/Tokyo:20241127T133000
DTEND;TZID=Asia/Tokyo:20241127T170000
DTSTAMP:20260420T054711
CREATED:20241030T024657Z
LAST-MODIFIED:20241030T025607Z
UID:17224-1732714200-1732726800@jfs.or.jp
SUMMARY:関西支部 令和６年度 秋季支部講演大会
DESCRIPTION:ハイブリッド式（近畿大学東大阪キャンパス（大阪府東大阪市）／オンライン（Zoom））\n（公社）日本鋳造工学会関西支部\n\n≫ 詳細情報 \n  \n 関西支部 令和６年度 秋季支部講演大会 \n主催団体名:（公社）日本鋳造工学会関西支部 \n〇開催日時\n2024年11月27日（水）　13:30～17:00 \n〇場所（名称・所在地）\nハイブリッド式（近畿大学東大阪キャンパス（大阪府東大阪市）／オンライン（Zoom）） \n〇参加費（会員・非会員等で参加費が異なる場合は具体的に）\n【参加費】　会員 2\,000円，学生：無料，支部賛助会：各社1名無料，非会員：9\,000円 \n〇定員\n会場参加 60名（先着順．当日の参加受付は実施いたしません）．Web 参加の定員制限なし \n〇申込方法\n件名を 「秋季支部講演大会申込」とし，下記(1)～(6)を記してE-mailにて申し込む．\n(1)氏名，(2)勤務先（所属先），(3)所属（所属部課），(4)所属先もしくは概要集郵送先の住所（郵便番号を含む），(5)電話番号，(6)e-mailアドレス，(7)会員資格　(8)参加方法（会場・Ｗｅｂ） \n〇申し込み締め切り\n11月18日（月）　 \n〇申込先\n公益社団法人日本鋳造工学会関西支部事務局\nE-mail：　jfs-kansai(at)jfs-osaka.jp　*(at)を@に変換してください \n〇問合せ先\n関西支部秋季支部講演大会担当　仲井 正昭　E-mail：nakai(at)mech.kindai.ac.jp *(at)を@に変換してください\n日本鋳造工学会関西支部のホームページURL　：　https://jfs-kannsai.jp \n〇内容\n関西支部では，例年，秋に講演大会を開催しております．今年度も下記の通り秋季支部講演大会を開催いたします．支部会員による研究発表・技術発表8件(優秀発表賞の選考対象)と支部研究開発奨励金受給者による成果報告1件を行います．皆様のご参加をお待ちしております．\n一般講演：(1)「球状黒鉛鋳鉄の金型鋳造における黒鉛粒数とチル割合に及ぼすZr添加の影響」（関西大学）○渡辺 歩・丸山 徹，（栗本鐵工所）南 克典，森田裕也，澤田健二，(2)「加熱処理したアルミニウム球状黒鉛鋳鉄の耐溶損性」（近畿大学）○梶 尚生・淺野和典，(3)「アルミニウム合金の鋳造過程で分散する気泡の数値シミュレーション」（大阪産業大学）○シュウ ガ・杉山 明，(4)「電子顕微鏡遠隔観察システムの構築」（兵庫県立大学）山本 航・永瀬丈嗣，（兵庫県立工業技術センター）山下 満，（福井工業大学）西 竜治，（大阪大学）市川 聡，(5)「時間分解X線トモグラフィを用いた固液共存体の連続的な変形過程の定量解析」（京都大学）○笹田智也・鳴海大翔・勝部涼司・安田秀幸，(6)「フラン鋳型の強度，砂接点数および破断樹脂形態の関係」（関西大学大学院）○國元 陸，（関西大学）丸山 徹・吉迫竜也，(7)「Al-Si合金の熱膨張挙動に対する析出の影響」（コベルコ科研）○岩崎祐紀，(8)「そば殻バイオコークスを用いたキュポラ長期運用評価」（栗本鐵工所）○太田 慧・新宮邦彦・中本光二・澤田健二・堤 親平，（近畿大学）井田民夫，渕端 学\n令和３年度研究開発奨励金研究 成果報告：「フラン鋳型の強度と鋳物砂の接着形態の関係」（関西大学）○丸山 徹・吉迫竜也，（藤原技研）藤原宏司\n優秀発表賞 表彰式 \n〇情報掲載HP　URL\nhttps://jfs-kannsai.jp \n 
URL:https://jfs.or.jp/event/%e9%96%a2%e8%a5%bf%e6%94%af%e9%83%a8-%e4%bb%a4%e5%92%8c%ef%bc%96%e5%b9%b4%e5%ba%a6-%e7%a7%8b%e5%ad%a3%e6%94%af%e9%83%a8%e8%ac%9b%e6%bc%94%e5%a4%a7%e4%bc%9a/
CATEGORIES:鋳造工学会関連イベント
END:VEVENT
END:VCALENDAR