BEGIN:VCALENDAR
VERSION:2.0
PRODID:-//公益社団法人 日本鋳造工学会 - ECPv6.7.0//NONSGML v1.0//EN
CALSCALE:GREGORIAN
METHOD:PUBLISH
X-WR-CALNAME:公益社団法人 日本鋳造工学会
X-ORIGINAL-URL:https://jfs.or.jp
X-WR-CALDESC:公益社団法人 日本鋳造工学会 のイベント
REFRESH-INTERVAL;VALUE=DURATION:PT1H
X-Robots-Tag:noindex
X-PUBLISHED-TTL:PT1H
BEGIN:VTIMEZONE
TZID:Asia/Tokyo
BEGIN:STANDARD
TZOFFSETFROM:+0900
TZOFFSETTO:+0900
TZNAME:JST
DTSTART:20240101T000000
END:STANDARD
END:VTIMEZONE
BEGIN:VEVENT
DTSTART;TZID=Asia/Tokyo:20241203T140000
DTEND;TZID=Asia/Tokyo:20241203T163000
DTSTAMP:20260420T040423
CREATED:20241115T052644Z
LAST-MODIFIED:20241126T041730Z
UID:17265-1733234400-1733243400@jfs.or.jp
SUMMARY:関東支部YFE「東京都立産業技術研究センター見学会」
DESCRIPTION:主催：関東支部YFE委員会 \n  \n関東支部YFEでは若手鋳造技術者の自己研鑽活動として様々な活動を行っています．今年度は下記の通り見学会を開催いたします．\n様々な評価・試験設備や３Dプリンタ，新たなアプリケーションへの研究など，将来の鋳物への想像を掻き立ててくれるような世界をご覧いただけると思います．\n本見学会は関東支部の若手の学会会員に限らず，全国の若手の学会会員，全国の鋳造技士の皆さんも参加頂けます．ぜひ奮ってご参加頂きますよう，ご案内申し上げます．近隣には日本科学未来館，船の科学館もございます．お時間に余裕のある方は，あわせてそちらへの訪問も可能です．\nまた，終了後に懇親会を計画しております．交流を深めるチャンスですので，ぜひ奮ってご参加下さい． \n【テーマ】「（地独）東京都立産業技術研究センター　見学会」 \n【日　時】2024年12月3日（火）　14:00 ～ 16:30 \n【場　所】東京都立産業技術センター本部（東京都江東区青海2-4-10) \n       （最寄り駅：ゆりかもめ　テレコムセンター駅） \n【見学内容（予定）】金属造型，樹脂造型，デジタイザ，強度測定機器関連（引張，硬さ，摩耗など），ロボット技術，IoTの展示スペース \n【参加費（懇親会含む）】無料 \n【定　員】20名 (先着) \n【申込み方法】下記URLから応募フォームでお申し込みください \n　　　　　https://forms.office.com/r/nEBgUsBrnW \n【申込み期限】11月29日（金） \n【備　考】 \n・現地集合・現地解散です． \n・交通費はご自身でご負担いただきます． \n・申込み締め切り後，記載頂いたメールアドレスへ詳細をご連絡申し上げます． \n  \n【問い合わせ先】関東支部YFE　平田　\n                             E-mail : hirata(at)atelier-lune.com　＊(at)を@に変えて送信ください
URL:https://jfs.or.jp/event/kantoyfe241203/
LOCATION:東京都立産業技術研究センター\, 青海2-4-10\, 江東区\, 東京都\, Japan
CATEGORIES:鋳造工学会関連イベント
END:VEVENT
BEGIN:VEVENT
DTSTART;VALUE=DATE:20241205
DTEND;VALUE=DATE:20241206
DTSTAMP:20260420T040423
CREATED:20241009T025450Z
LAST-MODIFIED:20241016T023146Z
UID:17137-1733356800-1733443199@jfs.or.jp
SUMMARY:軽合金鋳物の生産技術（素形材技術研修講座）
DESCRIPTION:オンライン（Webexミーティング）．工場見学は対面\n素形材センター／日本鋳造工学会\n\n≫ 詳細情報 \n  \n軽合金鋳物の生産技術（素形材技術研修講座） \n主催団体名:素形材センター／日本鋳造工学会 \n〇開催日時\n2024年12月5日(木)，13日(金)，19日(木) \n〇場所（名称・所在地）\nオンライン（Webexミーティング）．工場見学は対面 \n〇参加費（会員・非会員等で参加費が異なる場合は具体的に）\n62\,700円．素形材センター特別賛助会員・一般賛助会員及び日本鋳造工学会正会員・学生会員は31\,350円 \n〇定員\n40名 \n〇申込方法\n申込書に記入してE-mailで申し込む．または素形材センターホームページから申し込む：https://www.sokeizai.or.jp/pages/113/ \n〇問合せ先\n（一財）素形材センター　企画部 \n〇内容\n本講座は正しい理論に裏付けされた技術の習得及び現場の諸問題に的確に対応し，現場をリ－ドできる技術･技能者を育成するために，理論と実際をテーマに，現場の経験を講義の中に多く取り入れ，また最新の情報を多く提供するものです．受講者としては，現場経験3～5年程度の方，現場経験は長いけれども，改めて理論的知識を習得したい方などを対象としています．アルミニウム合金の鋳造技術としては，砂型鋳造，重力金型鋳造，低圧鋳造，ダイカストなど種々の鋳造法が適用されていますが，本講座では，ダイカスト以外の鋳造技術を取り上げます．\n①「鋳造用アルミニウム合金の特性と動向」（日軽エムシーアルミ㈱）堀川宏，②「溶解および溶湯処理」（日軽エムシーアルミ㈱）堀川宏，③「各種砂型鋳造法と適用事例」（森田技術士事務所）森田茂隆，④「金型鋳造法と適用事例」（森田技術士事務所）森田茂隆，⑤「鋳造合金の凝固・鋳造性」（日軽エムシーアルミ㈱）北岡山治，⑥「アルミニウム合金の熱処理、塑性加工による品質向上」（日軽エムシーアルミ㈱）北岡山治，⑦「鋳物製造の工法選択と品質管理」（日産自動車㈱）林 憲司，⑧工場見学：㈱田島軽金属 \n〇情報掲載HP　URL\nhttps://www.sokeizai.or.jp/http://www.jilm.or.jp/ \n〇その他特記事項\n本講座は，日本鋳造協会と日本鋳造工学会が鋳造中核人材育成事業の一環として実施する｢鋳造カレッジ｣の受講資格のひとつとして位置づけられています
URL:https://jfs.or.jp/event/%e8%bb%bd%e5%90%88%e9%87%91%e9%8b%b3%e7%89%a9%e3%81%ae%e7%94%9f%e7%94%a3%e6%8a%80%e8%a1%93%ef%bc%88%e7%b4%a0%e5%bd%a2%e6%9d%90%e6%8a%80%e8%a1%93%e7%a0%94%e4%bf%ae%e8%ac%9b%e5%ba%a7%ef%bc%89/
CATEGORIES:鋳造工学会関連イベント
END:VEVENT
BEGIN:VEVENT
DTSTART;VALUE=DATE:20241214
DTEND;VALUE=DATE:20241215
DTSTAMP:20260420T040423
CREATED:20241120T022739Z
LAST-MODIFIED:20241120T022739Z
UID:17288-1734134400-1734220799@jfs.or.jp
SUMMARY:理事による技術・情報・文化発信講座
DESCRIPTION:オンライン\n　（公社）日本鋳造工学会\n\n≫ 詳細情報 \n  \n理事による技術・情報・文化発信講座 \n主催団体名:（公社）日本鋳造工学会 \n〇開催日時\n2024年12月14日（土）～2025年11月15日（土）　の間で月1回開催（全国大会開催月を除く）全10回　各日13：00～15：50 \n〇場所（名称・所在地）\nオンライン \n〇参加費（会員・非会員等で参加費が異なる場合は具体的に）\n無料（ただし日本鋳造工学会会員のみ参加可） \n〇申込方法\n11月上旬配信のメールマガジンに記載しています．メルマガが届かない方はホームページからアドレスをご登録ください． \n〇申込締め切り\n第1回講座：12月14日（土）午前中 \n〇問合せ先\n（公社）日本鋳造工学会事務局\nTEL：03-6809-2303　E-mail：jfes(at)jfs.or.jp　*(at)を@に変換してください \n〇内容\n日本鋳造工学会では，学会サービス向上を目的として理事（有志）による無料で聴講できるWEB講座を開設することとしました．オンラインで無料の講座であることから会員を対象としています．日本鋳造工学会の会員，若手・中堅の方，技術・業務面においてヒントを探しておられる方，いまさら聞けない話など，鋳造に関わる専門家が解説するこの機会をぜひご利用いただき，鋳造工学への理解を深めていただきたく，ご案内申し上げます．\n講座は，月１回を予定し下記のスケジュールで計画しています．この機会をぜひご利用いただきたく，積極的なご参加をお待ち申し上げております．\n【講座スケジュール（予定）】　各回：13：00～15：50\n[第1回] 2024年12月14日（土）／講師：岡田政道，清水一道，山田伸弥　\n[第2回] 2025年1月25日（土）／講師：岡根利光，茂泉 健，尾村直紀　\n[第3回] 2025年2月8日（土）／講師：清水一道，白木尚人，平塚貞人　\n[第4回] 2025年3月15日（土）／講師：前田安郭，杉山 明，吉田 誠　\n[第5回] 2025年4月12日（土）／講師：山本 郁，横溝雄三，山浦秀樹　\n[第6回] 2025年6月14日（土）／講師：淺野和典，池 浩之，木村寿利　\n[第7回] 2025年 7月19日（土）／講師：花井 崇，野田善之，小川兼司　\n[第8回] 2025年8月23日（土）／講師：糸藤春喜，岸 陽一，信木 関　\n[第9回] 2025年9月13日（土）／講師：安田秀幸，矢野賢一　\n[第10回] 2025年11月15日（土）／講師：慶島浩二，木挽謙治　 \n〇第1回目プログラム\n[第1回] 2024年12月14日（土）13：00～15：50\n⑴「ご挨拶，学会の運営指針や鋳造の広がりと期待」（日本鋳造工学会会長・トヨタバッテリー）岡田政道\n⑵「SDGsを考慮した創造的人材育成について（ものづくり出前講義も含めて）」（室蘭工業大学）清水一道\n⑶「鋳鉄はどのように壊れるのか？　― ミクロ組織と破壊挙動 ―」（アイシン高丘(株)）山田伸弥 \n〇情報掲載HP　URL\nhttps://jfs.or.jp
URL:https://jfs.or.jp/event/%e7%90%86%e4%ba%8b%e3%81%ab%e3%82%88%e3%82%8b%e6%8a%80%e8%a1%93%e3%83%bb%e6%83%85%e5%a0%b1%e3%83%bb%e6%96%87%e5%8c%96%e7%99%ba%e4%bf%a1%e8%ac%9b%e5%ba%a7/
CATEGORIES:鋳造工学会関連イベント
END:VEVENT
BEGIN:VEVENT
DTSTART;TZID=Asia/Tokyo:20241219T130000
DTEND;TZID=Asia/Tokyo:20241219T183000
DTSTAMP:20260420T040423
CREATED:20241127T022145Z
LAST-MODIFIED:20250114T024339Z
UID:17334-1734613200-1734633000@jfs.or.jp
SUMMARY:理事による技術・情報・文化発信講座
DESCRIPTION:オンライン\n（公社）日本鋳造工学会\n\n≫ 詳細情報 \n  \n理事による技術・情報・文化発信講座 \n主催団体名:（公社）日本鋳造工学会 \n〇開催日時\n2024年12月14日（土）～2025年11月15日（土）　の間で月1回開催（全国大会開催月を除く）全10回　各日13：00～15：50 \n〇場所（名称・所在地）\nオンライン \n〇参加費（会員・非会員等で参加費が異なる場合は具体的に）\n無料（ただし日本鋳造工学会会員のみ参加可） \n〇申込方法\n11月上旬配信のメールマガジンに記載しています．メルマガが届かない方はホームページからアドレスをご登録ください． \n〇申込締め切り\n第1回講座：12月14日（土）午前中 \n  \n〇連絡先・問合せ先\n　（公社）日本鋳造工学会事務局\nTEL：03-6809-2303　E-mail：jfes(at)jfs.or.jp　*(at)を@に変換してください \n〇内容\n日本鋳造工学会では，学会サービス向上を目的として理事（有志）による無料で聴講できるWEB講座を開設することとしました．オンラインで無料の講座であることから会員を対象としています．日本鋳造工学会の会員，若手・中堅の方，技術・業務面においてヒントを探しておられる方，いまさら聞けない話など，鋳造に関わる専門家が解説するこの機会をぜひご利用いただき，鋳造工学への理解を深めていただきたく，ご案内申し上げます．\n講座は，月１回を予定し下記のスケジュールで計画しています．この機会をぜひご利用いただきたく，積極的なご参加をお待ち申し上げております．\n【講座スケジュール（予定）】　各回：13：00～15：50\n[第2回] 2025年1月25日（土）／講師：岡根利光，茂泉 健，尾村直紀　\n[第3回] 2025年2月8日（土）／講師：清水一道，白木尚人，平塚貞人　\n[第4回] 2025年3月15日（土）／講師：前田安郭，杉山 明，吉田 誠　\n[第5回] 2025年4月12日（土）／講師：山本 郁，横溝雄三，山浦秀樹　\n[第6回] 2025年6月14日（土）／講師：淺野和典，池 浩之，木村寿利　\n[第7回] 2025年 7月19日（土）／講師：花井 崇，野田善之，小川兼司　\n[第8回] 2025年8月23日（土）／講師：糸藤春喜，岸 陽一，信木 関　\n[第9回] 2025年9月13日（土）／講師：安田秀幸，矢野賢一　\n[第10回] 2025年11月15日（土）／講師：慶島浩二，木挽謙治　\n＜終了＞\n[第1回] 2024年12月14日（土）／講師：岡田政道，清水一道，山田伸弥　 \n〇第１回目プログラム\n[第2回] 2025年1月25日（土）13：00～15：50\n(1)「銅合金鋳物に関するこれまでの研究」（ものつくり大学）岡根利光\n(2)「アルミニウム合金鋳物の熱処理の基礎」（いすゞ自動車（株））茂泉 健\n(3)「アルミニウムのアップサイクルリサイクルに向けた不純物除去技術開発」（産業技術総合研究所）尾村直紀 \n  \n〇情報掲載HP　URL\nhttps://jfs.or\,jp \n 
URL:https://jfs.or.jp/event/%e7%ac%ac130%e5%9b%9e%e6%b6%88%e5%a4%b1%e6%a8%a1%e5%9e%8b%e9%8b%b3%e9%80%a0%e6%b3%95%e7%a0%94%e7%a9%b6%e4%bc%9a/
CATEGORIES:鋳造工学会関連イベント
END:VEVENT
BEGIN:VEVENT
DTSTART;TZID=Asia/Tokyo:20241220T130000
DTEND;TZID=Asia/Tokyo:20241220T170000
DTSTAMP:20260420T040423
CREATED:20241127T022940Z
LAST-MODIFIED:20241129T005456Z
UID:17336-1734699600-1734714000@jfs.or.jp
SUMMARY:2024年度 学生鋳物コンテスト 発表会
DESCRIPTION:いすゞ自動車(株)　横浜本社15階セミナールーム　および　ZOOMによるハイブリッド開催\n(公社)日本鋳造工学会\n\n≫ 詳細情報 \n  \n2024年度 学生鋳物コンテスト 発表会開催のご案内 \n主催団体名:(公社)日本鋳造工学会 \n〇開催日時\n2024年12月20日　13:00～16:55 \n〇場所（名称・所在地）\nいすゞ自動車(株)　横浜本社15階セミナールーム　および　ZOOMによるハイブリッド開催 \n〇参加費（会員・非会員等で参加費が異なる場合は具体的に）\n無料 \n〇参加方法\n・会場参加：下記会場へお越しください\nいすゞ自動車(株)　横浜本社15階セミナールーム（神奈川県横浜市西区高島1丁目２番５号横浜ゲートタワー）.２階エントランスより高層階行きエレベーターをご利用ください \n・オンライン参加：Zoomミーティングにご参加ください\n（後日，本欄にミーティングIDを公開いたします） \n〇問合せ先\n日本鋳造工学会事務局    Mail: jfs-kambe(at)jfs.or.jp *(at)を@に変換してください　Tel：03-6809-2303 \n日本鋳造工学会YFE委員会         Mail:　ken_moizumi(at)isuzu.com *(at)を@に変換してください　 \n〇情報掲載HP　URL\nhttps://jfs.or.jp/
URL:https://jfs.or.jp/event/20241220_imocon/
CATEGORIES:鋳造工学会関連イベント
END:VEVENT
BEGIN:VEVENT
DTSTART;TZID=Asia/Tokyo:20241220T133000
DTEND;TZID=Asia/Tokyo:20241220T163000
DTSTAMP:20260420T040423
CREATED:20241120T022639Z
LAST-MODIFIED:20241120T022639Z
UID:17290-1734701400-1734712200@jfs.or.jp
SUMMARY:第41回関西鋳造懇話会
DESCRIPTION:ハイブリッド式（近畿大学東大阪キャンパス（大阪府東大阪市）／オンライン(Zoom)）\n　（公社）日本鋳造工学会関西支部\n\n≫ 詳細情報 \n  \n第41回関西鋳造懇話会 \n主催団体名:　（公社）日本鋳造工学会関西支部 \n〇開催日時\n2024年12月20日（金）13:45～16:45（交流会17:00～19:00） \n〇場所（名称・所在地）\nハイブリッド式（近畿大学東大阪キャンパス（大阪府東大阪市）／オンライン(Zoom)） \n〇参加費（会員・非会員等で参加費が異なる場合は具体的に）\n対面：会員3\,000 円，学生1\,000 円，非会員6\,000 円，関西支部賛助会員会社は１名無料\nオンライン：1\,000円(会員のみ) \n〇申込方法\n下記⑴～⑺を明記し，電子メールにて，申し込み先まで申し込む．⑴氏名，⑵勤務先（所属先），⑶所属（所属部課），⑷E-mailアドレス，⑸会員資格，⑹参加形態（対面／オンライン），⑺交流会参加の有無（対面参加のみ） \n〇申込締め切り\n12月9日（月） \n〇申込先・問合せ先\n関西鋳造懇話会事務局　jfs-konwakai（at）jfs-osaka.jp　*(at)を@に変換してください \n〇内容\n関西支部では鋳造工学を総合工学と位置づけ，各種技術・現象を横断的に総合討論する場として関西鋳造懇話会を開催し，会員各位の議論の場，交流の機会としております．今回は球状黒鉛鋳鉄の金属組織と材料特性に及ぼす溶湯処理の影響、熱分析曲線と鋳巣発生形態の関係，鋳鋼の結晶粒組織と熱処理に関する発表を企画いたしました．\n⑴(オンライン)「高Mn含有球状黒鉛鋳鉄の組織と機械的性質に及ぼす溶湯処理剤の影響」（岩手大学）○平塚貞人・小綿利憲，（早稲田大学）吉田誠・山口勉功，⑵「CEカップに注湯した球状黒鉛鋳鉄溶湯に発生する空隙の種類と熱分析曲線の関係」（三重県工業研究所）○近藤義大・金森陽一，⑶「鋳鋼品の結晶粒微細化による熱処理簡略化」（小松製作所）○住平航・王生翔平・山口泰文・天野昌春 \n〇情報掲載HP　URL\nhttp://jfs-kansai.jp/
URL:https://jfs.or.jp/event/%e7%ac%ac41%e5%9b%9e%e9%96%a2%e8%a5%bf%e9%8b%b3%e9%80%a0%e6%87%87%e8%a9%b1%e4%bc%9a/
CATEGORIES:鋳造工学会関連イベント
END:VEVENT
END:VCALENDAR