BEGIN:VCALENDAR
VERSION:2.0
PRODID:-//公益社団法人 日本鋳造工学会 - ECPv6.7.0//NONSGML v1.0//EN
CALSCALE:GREGORIAN
METHOD:PUBLISH
X-ORIGINAL-URL:https://jfs.or.jp
X-WR-CALDESC:公益社団法人 日本鋳造工学会 のイベント
REFRESH-INTERVAL;VALUE=DURATION:PT1H
X-Robots-Tag:noindex
X-PUBLISHED-TTL:PT1H
BEGIN:VTIMEZONE
TZID:Asia/Tokyo
BEGIN:STANDARD
TZOFFSETFROM:+0900
TZOFFSETTO:+0900
TZNAME:JST
DTSTART:20250101T000000
END:STANDARD
END:VTIMEZONE
BEGIN:VEVENT
DTSTART;TZID=Asia/Tokyo:20250311T133000
DTEND;TZID=Asia/Tokyo:20250311T163000
DTSTAMP:20260419T224351
CREATED:20250114T024547Z
LAST-MODIFIED:20250114T024547Z
UID:17496-1741699800-1741710600@jfs.or.jp
SUMMARY:技術講習会「鋳型技術の最新トピックス」（関西支部　第18回鋳造セミナー）
DESCRIPTION:ハイブリッド式（（近畿大学 理工学部 東大阪キャンパス）/オンライン（Zoom））\n（公社）日本鋳造工学会 企画委員会，関西支部\n\n≫ 詳細情報 \n  \n技術講習会「鋳型技術の最新トピックス」（関西支部　第18回鋳造セミナー） \n主催団体名:（公社）日本鋳造工学会 企画委員会，関西支部 \n〇開催日時\n2025年3月11日（火） 13:30 ～ 16:35 \n〇場所（名称・所在地）\nハイブリッド式（（近畿大学 理工学部 東大阪キャンパス）/オンライン（Zoom）） \n〇参加費（会員・非会員等で参加費が異なる場合は具体的に）\n会員3\,000円，学生無料，関西支部賛助会各社１名無料，非会員9\,000円 \n〇定員\n会場50名 \n〇申込方法\n(1)氏名，(2)勤務先(所属先)，(3)所属(所属部課)，(4)所属先もしくは概要集郵送先の住所(郵便番号含む)，(5)電話番号，(6)e-mail アドレス，(7)会員資格 ，(8)参加方法(会場・Zoom) \n〇申込締め切り\n2月25日（火）厳守 \n  \n〇連絡先・問合せ先\n関西支部事務局　jfs-kansai(at)jfs-osaka.jp*(at)を@に変換してください \n〇内容\n(1)「最新の鋳型用バインダーの開発動向」（花王クエーカー（株））青沼宏明，\n(2)「無機鋳型プロセス、コールドボックス法の最新動向(生産性と環境対策の両立を目指して)」（ASKケミカルズジャパン（株））灰岡暉史・梅谷昇平，(3)「シェルモールド法の樹脂／RCSの最新動向」（旭有機材（株））高間智宏，(4)「砂型３Ｄプリンタ材料の現状と最新動向」（群栄化学工業（株））飯塚一毅 \n〇情報掲載HP　URL\n日本鋳造工学会関西支部ホームページURL : https//jfs-kansai.jp/
URL:https://jfs.or.jp/event/%e6%8a%80%e8%a1%93%e8%ac%9b%e7%bf%92%e4%bc%9a%e3%80%8c%e9%8b%b3%e5%9e%8b%e6%8a%80%e8%a1%93%e3%81%ae%e6%9c%80%e6%96%b0%e3%83%88%e3%83%94%e3%83%83%e3%82%af%e3%82%b9%e3%80%8d%ef%bc%88%e9%96%a2%e8%a5%bf/
CATEGORIES:鋳造工学会関連イベント
END:VEVENT
BEGIN:VEVENT
DTSTART;TZID=Asia/Tokyo:20250313T133000
DTEND;TZID=Asia/Tokyo:20250313T170000
DTSTAMP:20260419T224351
CREATED:20250218T025535Z
LAST-MODIFIED:20250218T025535Z
UID:17735-1741872600-1741885200@jfs.or.jp
SUMMARY:第42回関西鋳造懇話会
DESCRIPTION:ハイブリッド式（関西大学千里山キャンパス（大阪府吹田市）／オンライン(Zoom)）\n（公社）日本鋳造工学会関西支部\n\n≫ 詳細情報 \n  \n第42回関西鋳造懇話会 \n主催団体名:（公社）日本鋳造工学会関西支部 \n〇開催日時\n2025年 3月13日（木）講演会13:45～16:45・交流会17:00～19:00 \n〇場所（名称・所在地）\nハイブリッド式（関西大学千里山キャンパス（大阪府吹田市）／オンライン(Zoom)） \n〇参加費（会員・非会員等で参加費が異なる場合は具体的に）\n対面参加：会員3\,000 円，学生1\,000 円，非会員6\,000 円，関西支部賛助会員会社は１名無料　（資料，交流会費含む）．オンライン参加：1\,000円　(会員のみ) \n〇申込方法\n氏名，勤務先（所属先），所属（所属部課），E-mailアドレス，会員資格，\n参加形態（対面／オンライン），交流会参加の有無（対面参加のみ）を明記し，\n電子メールにて，申し込み先まで申し込みください． \n〇申込締め切り\n3月3日（月） \n  \n〇連絡先・問合せ先\n関西鋳造懇話会事務局　jfs-konwakai(at)jfs-osaka.jp*(at)を@に変換してください \n〇内容\n下記の通り第42回関西鋳造懇話会を開催いたします．今回は熱力学を応用した鋳造関連技術として、アルミニウムのリサイクル、鋳鋼鋳物の構成相予測とその実践、鋳鉄の接種に関する熱力学をに関する発表を企画いたしました．会員各位のご参加をいただきますよう，お願い申し上げます．\n(1)「金属間化合物除去法によるアルミニウム合金溶湯アップグレード技術の実用可能性」（エス・エス・アルミ）〇和田健司・後藤慎治，（アサヒセイレン）西川拓也，西川功二，(2) 「低合金鋳鋼の急速加熱下における圧縮強度特性」（三共合金鋳造所）○長谷俊明・橘堂 忠，（近畿大学）淺野和典，（大阪産業技術研究所）武村 守，(3) 「鋳鉄の凝固中における過冷却液体から生成し得る相の熱力学的検討」（関西大学）○丸山 徹 \n〇情報掲載HP URL\nhttp://jfs-kansai.jp/
URL:https://jfs.or.jp/event/%e7%ac%ac42%e5%9b%9e%e9%96%a2%e8%a5%bf%e9%8b%b3%e9%80%a0%e6%87%87%e8%a9%b1%e4%bc%9a/
CATEGORIES:鋳造工学会関連イベント
END:VEVENT
BEGIN:VEVENT
DTSTART;TZID=Asia/Tokyo:20250325T090000
DTEND;TZID=Asia/Tokyo:20250325T170000
DTSTAMP:20260419T224351
CREATED:20250304T004800Z
LAST-MODIFIED:20250304T004800Z
UID:17824-1742893200-1742922000@jfs.or.jp
SUMMARY:第７回鋳造ロボットセミナー　基礎編
DESCRIPTION:Industrial Automation Technology Center（IATC）会議室\n公益社団法人 日本鋳造工学会 鋳造設備研究部会\n\n≫ 詳細情報 \n  \n第７回鋳造ロボットセミナー　基礎編 \n主催団体名:公益社団法人 日本鋳造工学会 鋳造設備研究部会 \n〇開催日時\n2025年3月25日（火）9:00～17:00 \n〇場所（名称・所在地）\nIndustrial Automation Technology Center（IATC）会議室 \n　　　　　　大阪市住之江区南港北2-1-10 ATCビル ITM棟3F D-1 iRooBO Open Technology Center \n              　　https://iroobo.jp/ \n〇参加費（会員・非会員等で参加費が異なる場合は具体的に）\n20\,000円 \n〇申込方法\n鋳造設備研究部会ホームページ（ https://jfs-setsubi.org/ ）の「鋳造ロボットセミナー（基礎編）開催案内&参加申込」からお申込みください。参加申し込み後に参加費支払い方法等をメールでお知らせします。 \n〇申込締め切り\n2025年3月7日（金）※募集定員に達し次第、締め切ります。 \n  \n〇連絡先・問合せ先\n鋳造ロボットセミナー事務局 \n山梨大学大学院総合研究部　野田善之 \nE-mail: noday@yamanashi.ac.jp \nTel: 055-220-8440 \n〇内容\n近年、さまざまな生産現場でDX推進やロボット技術の活用が進められています。ロボット技術を導入し、継続的に活用していくためには、ロボット技術を導入・運用するための知識を獲得し、最新動向を収集する人的ネットワークが必要になります。そこで、鋳造設備研究部会では鋳造ロボットセミナー基礎編を開催します。鋳造業の生産技術者がロボット技術を道具の一つとして活用できるように支援していきます。皆様の積極的なご参加をお待ちしております。　　　　　※第８回鋳造ロボットセミナー活用事例編は2025年9月頃に開催予定です。 \n※進行状況によりスケジュールが変更される場合があります。 \n8:45～ 9:00 受付 \n9:00～ 9:15 鋳造ロボットセミナーの趣旨説明 \n9:15～10:10 産業用ロボットに関する基礎知識 \n10:10～10:20 休憩 \n10:20～11:30 ロボットシステム構築の流れと勘所 \n11:30～12:00 産業用ロボットの活用事例の紹介 \n12:00～13:00 昼休憩 \n13:00～15:40 ロボットシステム導入を模擬したPBL型演習（ロボット導入・改善企画書に基づいた議論） \n15:40～15:50 休憩 \n15:50～16:50 ロボット導入・改善企画書を基にしたプレゼンテーション \n16:50～17:00 修了式（修了書授与） \n17:00～18:00 IATC展示ロボットの見学（自由参加） \n※参加者はロボット導入・改善企画書の草案を事前に検討していただきます。
URL:https://jfs.or.jp/event/%e7%ac%ac%ef%bc%97%e5%9b%9e%e9%8b%b3%e9%80%a0%e3%83%ad%e3%83%9c%e3%83%83%e3%83%88%e3%82%bb%e3%83%9f%e3%83%8a%e3%83%bc%e3%80%80%e5%9f%ba%e7%a4%8e%e7%b7%a8/
CATEGORIES:鋳造工学会関連イベント
END:VEVENT
END:VCALENDAR