BEGIN:VCALENDAR
VERSION:2.0
PRODID:-//公益社団法人 日本鋳造工学会 - ECPv6.7.0//NONSGML v1.0//EN
CALSCALE:GREGORIAN
METHOD:PUBLISH
X-ORIGINAL-URL:https://jfs.or.jp
X-WR-CALDESC:公益社団法人 日本鋳造工学会 のイベント
REFRESH-INTERVAL;VALUE=DURATION:PT1H
X-Robots-Tag:noindex
X-PUBLISHED-TTL:PT1H
BEGIN:VTIMEZONE
TZID:Asia/Tokyo
BEGIN:STANDARD
TZOFFSETFROM:+0900
TZOFFSETTO:+0900
TZNAME:JST
DTSTART:20260101T000000
END:STANDARD
END:VTIMEZONE
BEGIN:VEVENT
DTSTART;TZID=Asia/Tokyo:20260306T093000
DTEND;TZID=Asia/Tokyo:20260306T170000
DTSTAMP:20260421T140913
CREATED:20260114T030056Z
LAST-MODIFIED:20260114T030056Z
UID:19583-1772789400-1772816400@jfs.or.jp
SUMMARY:組織検査用試料の作り方(組織の現出)講習会　～鉄鋼材料･非鉄金属材料･表面改質処理および異常組織材～
DESCRIPTION:機械振興会館(東京都港区）\n材料技術教育研究会\n\n≫ 詳細情報 \n  \n組織検査用試料の作り方(組織の現出)講習会　～鉄鋼材料･非鉄金属材料･表面改質処理および異常組織材～ \n主催団体名:材料技術教育研究会 \n〇開催日時\n2026年3月6日（金）　9：40～16：50 \n〇場所（名称・所在地）\n機械振興会館(東京都港区） \n〇参加費（会員・非会員等で参加費が異なる場合は具体的に）\n28\,000円．協賛団体会員は25\,000円 \n〇定員\n100名 \n〇申込方法\n申し込みサイト（http://www.mskoshukai.jp/）から申し込む \n〇申込締め切り\n2月20日（金） \n〇連絡先・問合せ先\n材料技術教育研究会　ＭＳ講習会事務局　担当：原田・松橋\nTEL．047-431-7451（代表）　E-mail．jimukyoku(at)mskoshukai.jp*(at)を＠に変換してください. \n〇内容\n材料の組織には沢山の情報が含まれており，われわれがその情報を正確に読み取るには，試料の採取方法，研磨方法，エッチング手法がキーポイントになります．つまり研磨方法やエッチングのテクニックが成否を決します．本講習会では，鉄鋼材料，非鉄金属材料，表面改質材の研磨とエッチングのテクニックやノウハウを解説します．\n(1)「材料技術教育研究会及び顕微鏡組織標準片の紹介」（山本科学工具研究社）山本正之，\n(2)「鉄鋼材料の磨き方と組織の現出」（神奈川県立産業技術総合研究所）髙木眞一，\n(3)「非鉄金属材料の磨き方と組織の現出」（千葉工業大学）佐藤英一郎，\n(4)「表面処理品及び複合材料の磨き方と組織の現出」（日本メタロ）坂本良二，\n(5)「“異常組織”と“欠陥組織”について」（神奈川県立産業技術総合研究所）佐野明彦，\n(6)質疑応答 \n〇情報掲載HP　URL\nhttp://www.mskoshukai.jp/page/entry20260306
URL:https://jfs.or.jp/event/%e7%b5%84%e7%b9%94%e6%a4%9c%e6%9f%bb%e7%94%a8%e8%a9%a6%e6%96%99%e3%81%ae%e4%bd%9c%e3%82%8a%e6%96%b9%e7%b5%84%e7%b9%94%e3%81%ae%e7%8f%be%e5%87%ba%e8%ac%9b%e7%bf%92%e4%bc%9a%e3%80%80%ef%bd%9e%e9%89%84/
CATEGORIES:関連学協会イベント
END:VEVENT
BEGIN:VEVENT
DTSTART;TZID=Asia/Tokyo:20260306T130000
DTEND;TZID=Asia/Tokyo:20260306T170000
DTSTAMP:20260421T140913
CREATED:20260225T030009Z
LAST-MODIFIED:20260225T030009Z
UID:19702-1772802000-1772816400@jfs.or.jp
SUMMARY:～鋳造分野から見たアルミニウムのサーキュラーエコノミーに関する現状と課題～産総研中部センター・日本鋳造工学会東海支部鋳造先端プロセス研究部会 共催シンポジウム
DESCRIPTION:ハイブリッド式（オークスカナルパーク富山（富山市）／オンライン（Zoom））\n産業技術総合研究所 中部センター，日本鋳造工学会 東海支部 鋳造先端プロセス研究部会\n\n≫ 詳細情報 \n～鋳造分野から見たアルミニウムのサーキュラーエコノミーに関する現状と課題～産総研中部センター・日本鋳造工学会東海支部鋳造先端プロセス研究部会 共催シンポジウム \n主催団体名:産業技術総合研究所 中部センター，日本鋳造工学会 東海支部 鋳造先端プロセス研究部会 \n〇開催日時\n2026年3月6日（金）13:00～17:00 \n〇場所（名称・所在地）\nハイブリッド式（オークスカナルパーク富山（富山市）／オンライン（Zoom）） \n〇参加費（会員・非会員等で参加費が異なる場合は具体的に）\n無料 \n〇定員\n会場80名，オンライン無制限 \n〇申込方法\n申込フォームから参加登録する \n〇申込締め切り\n2月27日（金） \n〇申込先\n日本鋳造工学会 東海支部ホームページ（https://jfs-tokai.jp/）内の「鋳造先端プロセス研究部会」開催案内ページリンクより申し込む \n〇連絡先・問合せ先\n国立研究開発法人産業技術総合研究所 中部センター\n産学官連携推進室 イベント開催事務局：M-event-chubu-ml(at)aist.go.jp*(at)を＠に変換してください. \n〇内容\nアルミニウムのサーキュラーエコノミーにおける課題解決に貢献するため，アルミニウム産業の集積地である富山県にて，関連産業における最新情報，産総研をはじめとする各所での技術開発や取り組みなどを紹介するシンポジウム開催します．\n【プログラム】\n(1)「アルミ鋳物のボデー材への採用とリサイクル材の適用」（コベルコ科研）蛭川 謙一，\n(2)「鋳造分野から見たリサイクルアルミ材の日本，及び世界情勢」（NEDO イノベーション戦略センター）田村卓也，\n(3)「アルミリサイクルによる循環経済型イノベーション都市・富山の構築に向けた取り組み」（富山大学）小野英樹，\n(4)「アルミニウム資源循環に向けた不純物元素除去技術」（産業技術総合研究所）村上 雄一朗，\n(5)「自動車におけるアルミ鋳造部品の動向とアルミリサイクル化の必要性」（トヨタ自動車）田端英二 \n〇情報掲載HP　URL\n\n\n\n\n								2026年3月6日（金）開催　第114回鋳造先端プロセス研究部会（産業技術総合研究所中部センター共催） | 公益社団法人日本鋳造工学会東海支部\n							\n\n								第114回鋳造先端プロセス研究部会を2026年3月6日（金）に開催します。 今回は、産業技術総合研究所中部セン…							 \n\n							\n																	\n																公益社団法人日本鋳造工学会東海支部
URL:https://jfs.or.jp/event/%ef%bd%9e%e9%8b%b3%e9%80%a0%e5%88%86%e9%87%8e%e3%81%8b%e3%82%89%e8%a6%8b%e3%81%9f%e3%82%a2%e3%83%ab%e3%83%9f%e3%83%8b%e3%82%a6%e3%83%a0%e3%81%ae%e3%82%b5%e3%83%bc%e3%82%ad%e3%83%a5%e3%83%a9%e3%83%bc/
CATEGORIES:関連学協会イベント
END:VEVENT
BEGIN:VEVENT
DTSTART;TZID=Asia/Tokyo:20260312T130000
DTEND;TZID=Asia/Tokyo:20260312T170000
DTSTAMP:20260421T140913
CREATED:20260225T025004Z
LAST-MODIFIED:20260225T025004Z
UID:19729-1773320400-1773334800@jfs.or.jp
SUMMARY:3Dプリンティング体験講座（実技と座学）（日本3Dプリンティング産業技術協会教育講座）
DESCRIPTION:SHIP 品川産業支援交流施設（東京都品川区）\n（一社）日本 3D プリンティング産業技術協会\n\n3Dプリンティング体験講座（実技と座学）（日本3Dプリンティング産業技術協会教育講座） \n主催団体名:（一社）日本 3D プリンティング産業技術協会 \n〇開催日時\n2026年3月12日（木）　13:00～17:30 \n〇場所（名称・所在地）\nSHIP 品川産業支援交流施設（東京都品川区） \n〇参加費（会員・非会員等で参加費が異なる場合は具体的に）\n一般50\,000円，後援団体40\,000円（税込）．日本 3D プリンティング産業技術協会会員：無料 \n〇定員\n7名 \n〇申込方法\n申し込みサイト（https://am-exercise2603.peatix.com/）から申し込む \n〇連絡先・問合せ先\n日本3Dプリンティング産業技術協会 事務局　松岡司・大庭秀章・長船万里子\nTEL．050-3091-7451 \n〇内容\n本セミナーでは実技と座学により効果的に3Dプリンティングを学ぶことができます，実技編では3Dプリンティングの重要な工程である3DCAD設計・造形・仕上げを体験できます．座学編では3Dプリンティングの重要な概念や工程，設計技術，応用例について講義形式で学びます．3Dプリンタに興味があり、実際に設計、造形を体験してみたい技術者・企画担当者・マネージャなどを受講対象としています．\n実技編：3DCADを使った設計／3Dプリンタで造形／造形物の取り出し・仕上げ\n座学編：3Dプリンタの基本となる七方式の造形原理／3Dプリンタで使わる材料の種類や特性／出力過程（3Dプリンティングの全工程）／設計技術／活用事例 \n〇情報掲載HP　URL\nhttps://am-exercise2603.peatix.com/ \n〇その他特記事項\n日本鋳造工学会会員は割引価格で参加できます．割引コードは事務局までお問合せください（日本鋳造工学会事務局　jfs-kambe(at)jfs.or.jp*(at)を＠に変換してください.）
URL:https://jfs.or.jp/event/3d%e3%83%97%e3%83%aa%e3%83%b3%e3%83%86%e3%82%a3%e3%83%b3%e3%82%b0%e4%bd%93%e9%a8%93%e8%ac%9b%e5%ba%a7%ef%bc%88%e5%ae%9f%e6%8a%80%e3%81%a8%e5%ba%a7%e5%ad%a6%ef%bc%89%ef%bc%88%e6%97%a5%e6%9c%ac3d/
CATEGORIES:関連学協会イベント
END:VEVENT
BEGIN:VEVENT
DTSTART;TZID=Asia/Tokyo:20260319T133000
DTEND;TZID=Asia/Tokyo:20260319T193000
DTSTAMP:20260421T140913
CREATED:20260225T025113Z
LAST-MODIFIED:20260225T025113Z
UID:19731-1773927000-1773948600@jfs.or.jp
SUMMARY:鋳鋼品の製造に関する技術講演並びに研究発表会
DESCRIPTION:エッサム神田ホール（東京都千代田区）\n(一社)日本鋳鍛鋼会\n\n鋳鋼品の製造に関する技術講演並びに研究発表会 \n主催団体名:(一社)日本鋳鍛鋼会 \n〇開催日時\n2026年3月19日（木）　13：30～17：25　交流会 17：40～19：30 \n〇場所（名称・所在地）\nエッサム神田ホール（東京都千代田区） \n〇参加費（会員・非会員等で参加費が異なる場合は具体的に）\n会員15\,000(18\,000)円，非会員21\,000(27\,000)円，学生・教員は聴講無料．（　　）内は交流会込み参加費 \n〇定員\n60名 \n〇申込方法\n日本鋳鍛鋼会ホームページ（http://jscfa.or.jp）より開催案内書をダウンロードし，必要事項をご記入の上、Ｅメールで申し込む \n〇申込締め切り\n3月6日（金） \n〇連絡先・問合せ先\n(一社)日本鋳鍛鋼会 技術担当　門原・入江・中戸\nTEL．03-5283-1161　E-mail．eng(at)jscfa.or.jp*(at)を＠に変換してください. \n〇内容\n(1)「CAEによる彫刻モデルの最適湯道設計」（宇部スチール），\n(2)「大型鋳鋼品の焼着軽減」（常石鉄工），\n(3)「人工砂導入によるワンサンドプロセス化と砂処理設備更新の効果」（ラサスティール），\n(4)「スライドミキサーの活用による省力化事例」（太洋マシナリー），\n(5)「Hｉ-Mｎ鋼の加工遍歴について」（米子製鋼），\n(6)「特別講演：製造業の次世代化に向けた最新テクノロジー/量子アニーリング×鋳鋼」（シグマアイ）羽場 廉一郎 \n〇情報掲載HP　URL\nhttp://jscfa.or.jp　（日本鋳鍛鋼会ホームページ）
URL:https://jfs.or.jp/event/%e9%8b%b3%e9%8b%bc%e5%93%81%e3%81%ae%e8%a3%bd%e9%80%a0%e3%81%ab%e9%96%a2%e3%81%99%e3%82%8b%e6%8a%80%e8%a1%93%e8%ac%9b%e6%bc%94%e4%b8%a6%e3%81%b3%e3%81%ab%e7%a0%94%e7%a9%b6%e7%99%ba%e8%a1%a8%e4%bc%9a/
CATEGORIES:関連学協会イベント
END:VEVENT
BEGIN:VEVENT
DTSTART;TZID=Asia/Tokyo:20260323T080000
DTEND;TZID=Asia/Tokyo:20260323T170000
DTSTAMP:20260421T140913
CREATED:20260323T041023Z
LAST-MODIFIED:20260323T041023Z
UID:19957-1774252800-1774285200@jfs.or.jp
SUMMARY:学術フォーラム「これからの研究インテグリティ・研究セキュリティ―先端材料研究開発分野を起点に考える産官学それぞれのあり方―」
DESCRIPTION:日本学術会議講堂（東京都港区）／オンライン\n日本学術会議\n\n≫ 詳細情報 \n学術フォーラム「これからの研究インテグリティ・研究セキュリティ\n―先端材料研究開発分野を起点に考える産官学それぞれのあり方―」 \n主催団体名:日本学術会議 \n〇開催日時\n2026年4月4日（土）13：30～17：00 \n〇場所（名称・所在地）\n日本学術会議講堂（東京都港区）／オンライン \n〇参加費\n無料 \n〇申込方法\n申込フォームから申し込む \n〇連絡先・問合せ先\n日本学術会議事務局企画課学術フォーラム担当\nTEL．03-3403-6295 \n〇内容\n\n\n1) 講演「研究公正と研究インテグリティの関係を問い直す」\n中村　征樹（日本学術会議第一部会員／大阪大学全学教育推進機構教授）\n\n\n2) 講演「国際共同研究が直面する課題：研究インテグリティ・研究セキュリティ」\n鎌田　武仁 （上智大学特任助教）\n\n\n3) 講演「研究セキュリティの確保に関する取組のための手順書」\n錦　泰司（内閣府科学技術・イノベーション推進事務局参事官）\n\n\n4) 報告「研究者へのアンケート結果から見る先端材料開発現場での研究インテグリティ意識」\n岸村　顕広（日本学術会議連携会員／九州大学大学院工学研究院応用化学部門・分子システム科学センター准教授／内閣府科学技術・イノベーション推進事務局上席科学技術政策フェロー）\n\n\n5) パネルディスカッション\n課題：アカデミアおよび産業界における研究インテグリティ・研究セキュリティ\n\nモデレーター：筑本　知子（日本学術会議連携会員／大阪大学レーザー科学研究所付属マトリクス共創推進センターセンター長・教授）\nパネリスト：鎌田　武仁 （上智大学特任助教）\n臼田　孝（産業技術総合研究所　上級執行役員　研究者倫理統括担当）\n岸本　康夫（日本学術会議第三部会員／JFEスチール株式会社スチール研究所研究技監）\n佐々木　孝彦（東北大学金属材料研究所所長）\n中村　征樹（日本学術会議第一部会員／大阪大学全学教育推進機構教授）\n錦　泰司（内閣府科学技術・イノベーション推進事務局参事官）\n藤岡　沙都子（日本学術会議連携会員／慶應義塾大学理工学部応用化学科准教授） \n\n\n\n6) 総　括\n岸本　康夫（日本学術会議第三部会員／JFEスチール株式会社スチール研究所研究技監）\n\n〇情報掲載HP　URL\nhttps://www.scj.go.jp/ja/event/2026/395-s-0404.html
URL:https://jfs.or.jp/event/%e5%ad%a6%e8%a1%93%e3%83%95%e3%82%a9%e3%83%bc%e3%83%a9%e3%83%a0%e3%80%8c%e3%81%93%e3%82%8c%e3%81%8b%e3%82%89%e3%81%ae%e7%a0%94%e7%a9%b6%e3%82%a4%e3%83%b3%e3%83%86%e3%82%b0%e3%83%aa%e3%83%86%e3%82%a3/
CATEGORIES:関連学協会イベント
END:VEVENT
BEGIN:VEVENT
DTSTART;TZID=Asia/Tokyo:20260327T123000
DTEND;TZID=Asia/Tokyo:20260327T163000
DTSTAMP:20260421T140913
CREATED:20260225T025138Z
LAST-MODIFIED:20260225T025138Z
UID:19733-1774614600-1774629000@jfs.or.jp
SUMMARY:電気化学インピーダンス法：基礎と応用（腐食防食部門委員会第365回例会）
DESCRIPTION:大阪府教育会館 たかつガーデン（大阪市）\n（公社）日本材料学会\n\n≫ 詳細情報 \n電気化学インピーダンス法：基礎と応用（腐食防食部門委員会第365回例会） \n主催団体名:（公社）日本材料学会 \n〇開催日時\n2026年3月27日 (金)　12:45～16:30 \n〇場所（名称・所在地）\n大阪府教育会館 たかつガーデン（大阪市） \n〇参加費（会員・非会員等で参加費が異なる場合は具体的に）\n日本材料学会・協賛学会会員: 5\,000円，その他 非会員: 10\,000円]\n〇申込締め切り\n3月19日（木）正午（厳守） \n〇連絡先・問合せ先\n(一社)日本鋳鍛鋼会 技術担当　門原・入江・中戸\nTEL．03-5283-1161　E-mail．eng(at)jscfa.or.jp*(at)を＠に変換してください. \n〇内容\n電気化学インピーダンス法（EIS）は，対象とする電極に入力信号として微小な正弦波交流信号を与えて，その伝達関数としてインピーダンスを求めることにより電極反応機構などを解析する非定常測定法の一つである．交流信号の周波数を変調して得られるスペクトルの解析により，電極反応を非破壊かつ定量的に評価することができるため，腐食防食の分野においても利用されている．本例会では電気化学インピーダンス法の原理および計測の際のノイズ対策から腐食研究への適用事例をご講演頂く．\n(1)「電気化学インピーダンス法の基礎(仮題)」（名古屋工業大学）星芳直，\n(2)「電気化学インピーダンス測定におけるノイズ対策(仮題)」（東陽テクニカ）樋口望，\n(3)「電気化学インピーダンス法の土壌腐食への適用(仮題)」（東京科学大学） 大井梓，\n(4)「電気化学インピーダンス法のバラストタンク防食塗装劣化診断への適用(仮題)」（海上・港湾・航空技術研究所）林原仁志
URL:https://jfs.or.jp/event/%e9%9b%bb%e6%b0%97%e5%8c%96%e5%ad%a6%e3%82%a4%e3%83%b3%e3%83%94%e3%83%bc%e3%83%80%e3%83%b3%e3%82%b9%e6%b3%95%ef%bc%9a%e5%9f%ba%e7%a4%8e%e3%81%a8%e5%bf%9c%e7%94%a8%ef%bc%88%e8%85%90%e9%a3%9f%e9%98%b2/
CATEGORIES:関連学協会イベント
END:VEVENT
BEGIN:VEVENT
DTSTART;VALUE=DATE:20260430
DTEND;VALUE=DATE:20260501
DTSTAMP:20260421T140913
CREATED:20260309T024524Z
LAST-MODIFIED:20260309T024524Z
UID:19926-1777507200-1777593599@jfs.or.jp
SUMMARY:「ファンドリーテック + エキスポ 2026」出展募集
DESCRIPTION:（一社）日本鋳造協会\n≫詳細情報\n\n「ファンドリーテック + エキスポ 2026」出展募集 \n主催団体名:（一社）日本鋳造協会 \n〇公募概要\n本展示会は，鋳造技術とそれに関連する最新の設備・材料・ソリューションを一堂に集め，鋳造産業のさらなる発展と持続可能な社会の実現に貢献することを目的としています．各企業・団体のブース出展に加え，基調講演などのセミナーを通じて最新の技術や研究成果の共有を図ります．また，次世代を担う人材の育成と産学連携の促進を目標とします． \n〇出店対象\n各種鋳造メーカー／鋳造機械・溶解炉／ロボット・自動化ロボット／溶解原料、副資材、造型材料／燃焼機器、発熱体／耐火物、耐熱鋼／計測・制御機器、搬送装置／表面加工処理技術、機器／遠赤外線関連機器／電熱関連機器、発電・電源装置、伝熱解析・熱流体解析機器／エネルギー供給機器 ／ボイラー・暖房機器／各種熱・冷熱関連機器、応用機器、冷熱技術、サービス ／環境・カーボンニュートラル関連設備・技術／廃棄物関連設備、技術／ ICT・DX関連／各種研究機関・大学／その他関連製品・サービス \n〇出展料\n1 小間（9㎡：間口3m×奥行3m）あたり，日本鋳造協会正会員360\,000円，賛助会員380\,000円，一般関連企業440\,000円．消費税別 \n〇応募方法\n出展申込書（サイトからダウンロードする）で申し込む \n〇応募締め切り\n4月30日（木） \n〇問い合わせ先\nFoundry Tech + Expo 事務局　メッセフランクフルト ジャパン株式会社\nTEL．03-3262-8410\nE-mail．info(at)foundrytechexpo.com*(at)を＠に変換してください. \n〇情報掲載HP　URL\nwww.foundrytechexpo.com
URL:https://jfs.or.jp/event/%e3%80%8c%e3%83%95%e3%82%a1%e3%83%b3%e3%83%89%e3%83%aa%e3%83%bc%e3%83%86%e3%83%83%e3%82%af-%e3%82%a8%e3%82%ad%e3%82%b9%e3%83%9d-2026%e3%80%8d%e5%87%ba%e5%b1%95%e5%8b%9f%e9%9b%86/
CATEGORIES:関連学協会イベント,公募等
END:VEVENT
BEGIN:VEVENT
DTSTART;VALUE=DATE:20260515
DTEND;VALUE=DATE:20260519
DTSTAMP:20260421T140913
CREATED:20260309T024849Z
LAST-MODIFIED:20260309T024849Z
UID:19922-1778803200-1779148799@jfs.or.jp
SUMMARY:軽金属学会第150回春期大会
DESCRIPTION:富山国際会議場（富山市）\n（一社）軽金属学会\n\n≫ 詳細情報 \n軽金属学会第150回春期大会 \n主催団体名:（一社）軽金属学会 \n〇開催日時\n2026年5月15日（金）～18日（月） \n〇場所（名称・所在地）\n富山国際会議場（富山市） \n〇参加費（会員・非会員等で参加費が異なる場合は具体的に）\n軽金属学会正会員10\,000(12\,000)円，学生会員3\,000(4\,000)円，非会員15\,000(15\,000)円．いずれも事前申し込みの場合，（　　）内は第2期事前申し込みの金額．軽金属学会維持会員会社社員，協賛学協会個人会員は会員扱い． \n〇申込方法\n軽金属学会ホームページ(https://www.jilm.or.jp/)の「第150回大会」ページから申し込む \n〇申込締め切り\n第1期事前申込：4月14日（火）／第2期事前申込：5月8日（金） \n〇連絡先・問合せ先\n（一社）軽金属学会事務局\nTEL．03-3538-0232　FAX．03-3538-0226　E-mail．jilm-shomu(at)jilm.or.jp*(at)を＠に変換してください. \n〇内容\n【5月15日】\n(1)定時総会・表彰式，\n(2)軽金属学会賞受賞講演，\n(3)市民フォーラム 「世界の縮図，富山湾（仮）」，\n(4)レセプション・表彰式招待者歓迎会 \n【5月16日，17日】\n(5)研究発表講演会（テーマセッション：アルミニウム合金のリサイクルと不純物低減・制御，金属積層造形体およびセル構造体における不均一変形の力学，キンクの材料科学（Ⅱ），サステナブル蓄電池電極用軽金属材料の開発Ⅱ，中高温域における軽金属材料の力学特性と加工技術，生体応用に向けた軽金属材料の新展開，ポスターセッション），\n(6)軽金属功績賞受賞講演，\n(7)男女共同参画セッション（ハイブリッド開催），\n(8)企業招待講演セッション・軽金属企業研究会，\n(9)機器・カタログ展示，\n(10)懇親会 \n【5月18日】\n見学会：立山「雪の大谷」バスツアー \n〇情報掲載HP　URL\nhttps://www.jilm.or.jp/
URL:https://jfs.or.jp/event/%e8%bb%bd%e9%87%91%e5%b1%9e%e5%ad%a6%e4%bc%9a%e7%ac%ac150%e5%9b%9e%e6%98%a5%e6%9c%9f%e5%a4%a7%e4%bc%9a/
CATEGORIES:関連学協会イベント
END:VEVENT
BEGIN:VEVENT
DTSTART;TZID=Asia/Tokyo:20260515T123000
DTEND;TZID=Asia/Tokyo:20260515T163000
DTSTAMP:20260421T140913
CREATED:20260408T015116Z
LAST-MODIFIED:20260408T015116Z
UID:19998-1778848200-1778862600@jfs.or.jp
SUMMARY:腐食防食部門委員会「走査型プローブ顕微鏡を用いた腐食研究の最新動向」
DESCRIPTION:大阪府教育会館 たかつガーデン（大阪府大阪市）\n（公社）日本材料学会\n\n≫ 詳細情報 \n腐食防食部門委員会「走査型プローブ顕微鏡を用いた腐食研究の最新動向」 \n主催団体名:（公社）日本材料学会 \n〇開催日時\n2026年5月15日 (金)　12:45～16:35 \n〇場所（名称・所在地）\n大阪府教育会館 たかつガーデン（大阪府大阪市） \n〇参加費\n日本材料学会・協賛学会会員5\,000円，その他 非会員10\,000円 \n〇申込締め切り\n5月7日（木） \n〇連絡先・問合せ先\n（公社）日本材料学会\nE-mail．jimu(at)office.jsms.jp*(at)を＠に変換してください. \n〇内容\n走査型プローブ顕微鏡は，微小な針(プローブ)で材料表面をなぞるように動かすことで，その形状や物性をナノ～マイクロメートルスケールで測定できる顕微鏡の総称である．走査型プローブ顕微鏡は大気中や液中での観察が可能であり，形状と同時に表面電位など様々な物理データを取得できるため，腐食のメカニズムを微視組織の観点から明らかにできると期待されている．本例会では，走査型プローブ顕微鏡の基礎から腐食研究における活用事例までをご講演いただき，ミクロな腐食現象理解を深める一助としたい．\n（１）「プローブ顕微鏡の基礎(仮)」（京都大学）山田啓文，\n（２）「液中走査型プローブ顕微鏡技術の金属腐食計測への応用」（名古屋工業大学）田海斗，\n（３）「アルミニウム合金の組織と表面電位のデータ融合による腐食特性予測」（神戸製鋼所）寶雄也，\n（４）「AFM/KFMによる金属材料の腐食挙動解析」（物質・材料研究機構）片山英樹 \n〇情報掲載HP　URL\nhttps://fushoku.jsms.jp/
URL:https://jfs.or.jp/event/%e8%85%90%e9%a3%9f%e9%98%b2%e9%a3%9f%e9%83%a8%e9%96%80%e5%a7%94%e5%93%a1%e4%bc%9a%e3%80%8c%e8%b5%b0%e6%9f%bb%e5%9e%8b%e3%83%97%e3%83%ad%e3%83%bc%e3%83%96%e9%a1%95%e5%be%ae%e9%8f%a1%e3%82%92%e7%94%a8/
CATEGORIES:関連学協会イベント
END:VEVENT
BEGIN:VEVENT
DTSTART;VALUE=DATE:20260708
DTEND;VALUE=DATE:20260711
DTSTAMP:20260421T140913
CREATED:20260408T015203Z
LAST-MODIFIED:20260408T015203Z
UID:20000-1783468800-1783727999@jfs.or.jp
SUMMARY:第63回アイソトープ・放射線研究発表会
DESCRIPTION:日本科学未来館（東京都江東区）\n（公社）日本アイソトープ協会\n\n第63回アイソトープ・放射線研究発表会 \n主催団体名:（公社）日本アイソトープ協会 \n〇開催日時\n2026年7月8日（水）～10（金） \n〇場所（名称・所在地）\n日本科学未来館（東京都江東区） \n〇参加費\n一般7\,000円(9\,000円），学生無料．（　）内は後期参加登録 \n〇定員\n会場60名，オンライン200名程度 \n〇申込方法\n日本アイソトープ協会ホームページから申し込む（https://pub.confit.atlas.jp/ja/event/jrias2026/content/participation） \n〇申込締め切り\n前期参加登録6月12日，後期参加登録7月10日 \n〇連絡先・問合せ先\n（公社）日本アイソトープ協会\nTEL．03-5395-8081　E-mail．happyokai(at)jrias.or.jp*(at)を＠に変換してください. \n〇内容\n本研究発表会は、様々な専門分野の研究者が一堂に会し、アイソトープと放射線の理工学、ライフサイエンス、薬学、医学への利用技術を中心とした研究およびその基礎となる研究の発表と討論を行い、各分野間の知見と技術の交流を図ることを目的とし、開催しております \n〇情報掲載HP　URL\n\n				https://pub.confit.atlas.jp/ja/event/jrias2026
URL:https://jfs.or.jp/event/%e7%ac%ac63%e5%9b%9e%e3%82%a2%e3%82%a4%e3%82%bd%e3%83%88%e3%83%bc%e3%83%97%e3%83%bb%e6%94%be%e5%b0%84%e7%b7%9a%e7%a0%94%e7%a9%b6%e7%99%ba%e8%a1%a8%e4%bc%9a/
CATEGORIES:関連学協会イベント
END:VEVENT
END:VCALENDAR