BEGIN:VCALENDAR
VERSION:2.0
PRODID:-//公益社団法人 日本鋳造工学会 - ECPv6.7.0//NONSGML v1.0//EN
CALSCALE:GREGORIAN
METHOD:PUBLISH
X-ORIGINAL-URL:https://jfs.or.jp
X-WR-CALDESC:公益社団法人 日本鋳造工学会 のイベント
REFRESH-INTERVAL;VALUE=DURATION:PT1H
X-Robots-Tag:noindex
X-PUBLISHED-TTL:PT1H
BEGIN:VTIMEZONE
TZID:Asia/Tokyo
BEGIN:STANDARD
TZOFFSETFROM:+0900
TZOFFSETTO:+0900
TZNAME:JST
DTSTART:20260101T000000
END:STANDARD
END:VTIMEZONE
BEGIN:VEVENT
DTSTART;VALUE=DATE:20260515
DTEND;VALUE=DATE:20260519
DTSTAMP:20260421T102111
CREATED:20260309T024849Z
LAST-MODIFIED:20260309T024849Z
UID:19922-1778803200-1779148799@jfs.or.jp
SUMMARY:軽金属学会第150回春期大会
DESCRIPTION:富山国際会議場（富山市）\n（一社）軽金属学会\n\n≫ 詳細情報 \n軽金属学会第150回春期大会 \n主催団体名:（一社）軽金属学会 \n〇開催日時\n2026年5月15日（金）～18日（月） \n〇場所（名称・所在地）\n富山国際会議場（富山市） \n〇参加費（会員・非会員等で参加費が異なる場合は具体的に）\n軽金属学会正会員10\,000(12\,000)円，学生会員3\,000(4\,000)円，非会員15\,000(15\,000)円．いずれも事前申し込みの場合，（　　）内は第2期事前申し込みの金額．軽金属学会維持会員会社社員，協賛学協会個人会員は会員扱い． \n〇申込方法\n軽金属学会ホームページ(https://www.jilm.or.jp/)の「第150回大会」ページから申し込む \n〇申込締め切り\n第1期事前申込：4月14日（火）／第2期事前申込：5月8日（金） \n〇連絡先・問合せ先\n（一社）軽金属学会事務局\nTEL．03-3538-0232　FAX．03-3538-0226　E-mail．jilm-shomu(at)jilm.or.jp*(at)を＠に変換してください. \n〇内容\n【5月15日】\n(1)定時総会・表彰式，\n(2)軽金属学会賞受賞講演，\n(3)市民フォーラム 「世界の縮図，富山湾（仮）」，\n(4)レセプション・表彰式招待者歓迎会 \n【5月16日，17日】\n(5)研究発表講演会（テーマセッション：アルミニウム合金のリサイクルと不純物低減・制御，金属積層造形体およびセル構造体における不均一変形の力学，キンクの材料科学（Ⅱ），サステナブル蓄電池電極用軽金属材料の開発Ⅱ，中高温域における軽金属材料の力学特性と加工技術，生体応用に向けた軽金属材料の新展開，ポスターセッション），\n(6)軽金属功績賞受賞講演，\n(7)男女共同参画セッション（ハイブリッド開催），\n(8)企業招待講演セッション・軽金属企業研究会，\n(9)機器・カタログ展示，\n(10)懇親会 \n【5月18日】\n見学会：立山「雪の大谷」バスツアー \n〇情報掲載HP　URL\nhttps://www.jilm.or.jp/
URL:https://jfs.or.jp/event/%e8%bb%bd%e9%87%91%e5%b1%9e%e5%ad%a6%e4%bc%9a%e7%ac%ac150%e5%9b%9e%e6%98%a5%e6%9c%9f%e5%a4%a7%e4%bc%9a/
CATEGORIES:関連学協会イベント
END:VEVENT
BEGIN:VEVENT
DTSTART;TZID=Asia/Tokyo:20260515T123000
DTEND;TZID=Asia/Tokyo:20260515T163000
DTSTAMP:20260421T102111
CREATED:20260408T015116Z
LAST-MODIFIED:20260408T015116Z
UID:19998-1778848200-1778862600@jfs.or.jp
SUMMARY:腐食防食部門委員会「走査型プローブ顕微鏡を用いた腐食研究の最新動向」
DESCRIPTION:大阪府教育会館 たかつガーデン（大阪府大阪市）\n（公社）日本材料学会\n\n≫ 詳細情報 \n腐食防食部門委員会「走査型プローブ顕微鏡を用いた腐食研究の最新動向」 \n主催団体名:（公社）日本材料学会 \n〇開催日時\n2026年5月15日 (金)　12:45～16:35 \n〇場所（名称・所在地）\n大阪府教育会館 たかつガーデン（大阪府大阪市） \n〇参加費\n日本材料学会・協賛学会会員5\,000円，その他 非会員10\,000円 \n〇申込締め切り\n5月7日（木） \n〇連絡先・問合せ先\n（公社）日本材料学会\nE-mail．jimu(at)office.jsms.jp*(at)を＠に変換してください. \n〇内容\n走査型プローブ顕微鏡は，微小な針(プローブ)で材料表面をなぞるように動かすことで，その形状や物性をナノ～マイクロメートルスケールで測定できる顕微鏡の総称である．走査型プローブ顕微鏡は大気中や液中での観察が可能であり，形状と同時に表面電位など様々な物理データを取得できるため，腐食のメカニズムを微視組織の観点から明らかにできると期待されている．本例会では，走査型プローブ顕微鏡の基礎から腐食研究における活用事例までをご講演いただき，ミクロな腐食現象理解を深める一助としたい．\n（１）「プローブ顕微鏡の基礎(仮)」（京都大学）山田啓文，\n（２）「液中走査型プローブ顕微鏡技術の金属腐食計測への応用」（名古屋工業大学）田海斗，\n（３）「アルミニウム合金の組織と表面電位のデータ融合による腐食特性予測」（神戸製鋼所）寶雄也，\n（４）「AFM/KFMによる金属材料の腐食挙動解析」（物質・材料研究機構）片山英樹 \n〇情報掲載HP　URL\nhttps://fushoku.jsms.jp/
URL:https://jfs.or.jp/event/%e8%85%90%e9%a3%9f%e9%98%b2%e9%a3%9f%e9%83%a8%e9%96%80%e5%a7%94%e5%93%a1%e4%bc%9a%e3%80%8c%e8%b5%b0%e6%9f%bb%e5%9e%8b%e3%83%97%e3%83%ad%e3%83%bc%e3%83%96%e9%a1%95%e5%be%ae%e9%8f%a1%e3%82%92%e7%94%a8/
CATEGORIES:関連学協会イベント
END:VEVENT
BEGIN:VEVENT
DTSTART;VALUE=DATE:20260708
DTEND;VALUE=DATE:20260711
DTSTAMP:20260421T102111
CREATED:20260408T015203Z
LAST-MODIFIED:20260408T015203Z
UID:20000-1783468800-1783727999@jfs.or.jp
SUMMARY:第63回アイソトープ・放射線研究発表会
DESCRIPTION:日本科学未来館（東京都江東区）\n（公社）日本アイソトープ協会\n\n第63回アイソトープ・放射線研究発表会 \n主催団体名:（公社）日本アイソトープ協会 \n〇開催日時\n2026年7月8日（水）～10（金） \n〇場所（名称・所在地）\n日本科学未来館（東京都江東区） \n〇参加費\n一般7\,000円(9\,000円），学生無料．（　）内は後期参加登録 \n〇定員\n会場60名，オンライン200名程度 \n〇申込方法\n日本アイソトープ協会ホームページから申し込む（https://pub.confit.atlas.jp/ja/event/jrias2026/content/participation） \n〇申込締め切り\n前期参加登録6月12日，後期参加登録7月10日 \n〇連絡先・問合せ先\n（公社）日本アイソトープ協会\nTEL．03-5395-8081　E-mail．happyokai(at)jrias.or.jp*(at)を＠に変換してください. \n〇内容\n本研究発表会は、様々な専門分野の研究者が一堂に会し、アイソトープと放射線の理工学、ライフサイエンス、薬学、医学への利用技術を中心とした研究およびその基礎となる研究の発表と討論を行い、各分野間の知見と技術の交流を図ることを目的とし、開催しております \n〇情報掲載HP　URL\n\n				https://pub.confit.atlas.jp/ja/event/jrias2026
URL:https://jfs.or.jp/event/%e7%ac%ac63%e5%9b%9e%e3%82%a2%e3%82%a4%e3%82%bd%e3%83%88%e3%83%bc%e3%83%97%e3%83%bb%e6%94%be%e5%b0%84%e7%b7%9a%e7%a0%94%e7%a9%b6%e7%99%ba%e8%a1%a8%e4%bc%9a/
CATEGORIES:関連学協会イベント
END:VEVENT
END:VCALENDAR