BEGIN:VCALENDAR
VERSION:2.0
PRODID:-//公益社団法人 日本鋳造工学会 - ECPv6.7.0//NONSGML v1.0//EN
CALSCALE:GREGORIAN
METHOD:PUBLISH
X-WR-CALNAME:公益社団法人 日本鋳造工学会
X-ORIGINAL-URL:https://jfs.or.jp
X-WR-CALDESC:公益社団法人 日本鋳造工学会 のイベント
REFRESH-INTERVAL;VALUE=DURATION:PT1H
X-Robots-Tag:noindex
X-PUBLISHED-TTL:PT1H
BEGIN:VTIMEZONE
TZID:Asia/Tokyo
BEGIN:STANDARD
TZOFFSETFROM:+0900
TZOFFSETTO:+0900
TZNAME:JST
DTSTART:20240101T000000
END:STANDARD
END:VTIMEZONE
BEGIN:VEVENT
DTSTART;VALUE=DATE:20240805
DTEND;VALUE=DATE:20240807
DTSTAMP:20260422T020607
CREATED:20240628T005651Z
LAST-MODIFIED:20240628T005651Z
UID:16638-1722816000-1722988799@jfs.or.jp
SUMMARY:（大阪）デジタルラジオグラフィに関する技術講習会 －工業分野におけるデジタルラジオグラフィの基礎とその適用－
DESCRIPTION:東京：溶接会館（千代田区）\n大阪：CIVI研修センター（大阪市）\n日本溶接協会\n\n≫ 詳細情報
URL:https://jfs.or.jp/event/%ef%bc%88%e5%a4%a7%e9%98%aa%ef%bc%89%e3%83%87%e3%82%b8%e3%82%bf%e3%83%ab%e3%83%a9%e3%82%b8%e3%82%aa%e3%82%b0%e3%83%a9%e3%83%95%e3%82%a3%e3%81%ab%e9%96%a2%e3%81%99%e3%82%8b%e6%8a%80%e8%a1%93%e8%ac%9b/
LOCATION:CIVI 研修センター 新大阪東 E605 会議室
CATEGORIES:関連学協会イベント
END:VEVENT
BEGIN:VEVENT
DTSTART;TZID=Asia/Tokyo:20240802T104000
DTEND;TZID=Asia/Tokyo:20240802T172000
DTSTAMP:20260422T020607
CREATED:20240628T011738Z
LAST-MODIFIED:20240704T023510Z
UID:16661-1722595200-1722619200@jfs.or.jp
SUMMARY:カーボンニュートラルに対応する⾃動⾞へのアルミニウム活⽤最前線
DESCRIPTION:芝浦工業大学豊洲キャンパス（東京都江東区）\n軽金属学会\n\n≫ 詳細情報 \nカーボンニュートラルに対応する⾃動⾞へのアルミニウム活⽤最前線（第 132 回シンポジウム） \n主催団体名：（一社）軽⾦属学会 \n〇開催日時\n2024 年 8 ⽉ 2 ⽇（⾦） 10:40〜17:20 \n〇場所（名称・所在地）\n芝浦⼯業⼤学 豊洲キャンパス（東京都江東区） \n〇参加費\n軽金属学会正会員5\,000円，維持・協賛学協会個⼈会員15\,000円，学⽣会員・協賛学協会学⽣会員1\,000円 ，⾮会員20\,000円，学⽣⾮会員2\,000円 \n〇定員\n120 名 \n〇申込方法\n軽⾦属学会ホームページhttp://www.jilm.or.jp/から申し込む \n〇問合せ先\n（一社）軽⾦属学会\n〒104-0061 東京都中央区銀座 4-2-15　TEL．03-3538-0232　FAX．03-3538-0226 \n〇内容\n本シンポジウムでは，⾃動⾞製造におけるデジタルトランスフォーメーション（DX）化やファクトリオートメーション（FA）化，⾞体の⼀体成型技術”ギガキャスト”等の取組みを紹介します．特に，ギガキャストに関しては，先⾏している欧州よりダイカストマシンの Buhler 社ならびに溶解給湯炉の Striko Westofen 社のエンジニアをお招きし，直接会場にて解説していただきます．⾃動⾞関連の⽅はもちろんのこと、多数の⽅々のご参加をお待ちしています．\n①「自動車アルミ化の変遷と新たな活用事例」（（株）UACJ）浅野峰生，②「大物ダイカスト製品の品質向上に向けたCAE適用」（トヨタ自動車（株））佐々木悠，③「Sustainable structural casting production for the body-in-white of tomorrow」（Buhler AG）Marco Tobler，④「GIGAキャスティング向け溶解・給湯システム」（Striko Westofen）Christophe Lacourt，⑤「近年のダイカスト用アルミニウム合金の動向」（（株）大紀アルミニウム工業所）團野瑛章 \n〇情報掲載HP　URL\nhttps://www.iilm.or.jp/
URL:https://jfs.or.jp/event/%e3%82%ab%e3%83%bc%e3%83%9c%e3%83%b3%e3%83%8b%e3%83%a5%e3%83%bc%e3%83%88%e3%83%a9%e3%83%ab%e3%81%ab%e5%af%be%e5%bf%9c%e3%81%99%e3%82%8b%e2%be%83%e5%8b%95%e2%be%9e%e3%81%b8%e3%81%ae%e3%82%a2%e3%83%ab/
LOCATION:芝浦⼯業⼤学 豊洲キャンパス 交流棟 402 教室
CATEGORIES:関連学協会イベント
END:VEVENT
BEGIN:VEVENT
DTSTART;VALUE=DATE:20240723
DTEND;VALUE=DATE:20240724
DTSTAMP:20260422T020607
CREATED:20240628T011345Z
LAST-MODIFIED:20240628T011345Z
UID:16656-1721692800-1721779199@jfs.or.jp
SUMMARY:素形材技術研修講座「鋳鉄の基礎と応用」（オンライン講座）
DESCRIPTION:オンライン/工場見学:虹技株式会社\n素形材センタ ー\n\n≫ 詳細情報
URL:https://jfs.or.jp/event/%e7%b4%a0%e5%bd%a2%e6%9d%90%e6%8a%80%e8%a1%93%e7%a0%94%e4%bf%ae%e8%ac%9b%e5%ba%a7%e3%80%8c%e9%8b%b3%e9%89%84%e3%81%ae%e5%9f%ba%e7%a4%8e%e3%81%a8%e5%bf%9c%e7%94%a8%e3%80%8d%ef%bc%88%e3%82%aa%e3%83%b3/
LOCATION:オンライン研修講座
CATEGORIES:関連学協会イベント
END:VEVENT
BEGIN:VEVENT
DTSTART;VALUE=DATE:20240722
DTEND;VALUE=DATE:20240806
DTSTAMP:20260422T020607
CREATED:20240628T011128Z
LAST-MODIFIED:20240628T011153Z
UID:16653-1721606400-1722902399@jfs.or.jp
SUMMARY:溶接学会定期講座：中堅技術者講座
DESCRIPTION:オンデマンド配信/掲示板による質疑応答\n溶接学会\n\n≫ 詳細情報
URL:https://jfs.or.jp/event/%e6%ba%b6%e6%8e%a5%e5%ad%a6%e4%bc%9a%e5%ae%9a%e6%9c%9f%e8%ac%9b%e5%ba%a7%ef%bc%9a%e4%b8%ad%e5%a0%85%e6%8a%80%e8%a1%93%e8%80%85%e8%ac%9b%e5%ba%a7/
LOCATION:オンライン研修講座
CATEGORIES:関連学協会イベント
END:VEVENT
BEGIN:VEVENT
DTSTART;VALUE=DATE:20240722
DTEND;VALUE=DATE:20240723
DTSTAMP:20260422T020607
CREATED:20240628T010904Z
LAST-MODIFIED:20240628T010904Z
UID:16649-1721606400-1721692799@jfs.or.jp
SUMMARY:腐食防食部門委員会 第３５５回例会
DESCRIPTION:大阪府教育会館 たかつガーデン（大阪市）\n日本材料学会\n\n≫ 詳細情報
URL:https://jfs.or.jp/event/%e8%85%90%e9%a3%9f%e9%98%b2%e9%a3%9f%e9%83%a8%e9%96%80%e5%a7%94%e5%93%a1%e4%bc%9a-%e7%ac%ac%ef%bc%93%ef%bc%95%ef%bc%95%e5%9b%9e%e4%be%8b%e4%bc%9a/
LOCATION:大阪府教育会館 たかつガーデン 地下１階 オリー ブ\, 大阪市天王寺区東高津町 7 番 11 号
CATEGORIES:関連学協会イベント
END:VEVENT
BEGIN:VEVENT
DTSTART;VALUE=DATE:20240717
DTEND;VALUE=DATE:20240718
DTSTAMP:20260422T020607
CREATED:20240628T010638Z
LAST-MODIFIED:20240628T010638Z
UID:16646-1721174400-1721260799@jfs.or.jp
SUMMARY:素形材技術研修講座「消失模型鋳造法」（集合型研修講座、工場見学）
DESCRIPTION:座 学：新大阪丸ビル 新館 （大阪市東淀川区）\n工場見学：㈱エクセディ鋳造\n素形材センター\n\n≫ 詳細情報
URL:https://jfs.or.jp/event/%e7%b4%a0%e5%bd%a2%e6%9d%90%e6%8a%80%e8%a1%93%e7%a0%94%e4%bf%ae%e8%ac%9b%e5%ba%a7%e3%80%8c%e6%b6%88%e5%a4%b1%e6%a8%a1%e5%9e%8b%e9%8b%b3%e9%80%a0%e6%b3%95%e3%80%8d%ef%bc%88%e9%9b%86%e5%90%88%e5%9e%8b/
LOCATION:新大阪丸ビル 新館 405 号室\,㈱エクセディ鋳造 消失模型鋳造工場
CATEGORIES:関連学協会イベント
END:VEVENT
BEGIN:VEVENT
DTSTART;VALUE=DATE:20240712
DTEND;VALUE=DATE:20240804
DTSTAMP:20260422T020607
CREATED:20240712T013519Z
LAST-MODIFIED:20240712T020218Z
UID:16803-1720742400-1722729599@jfs.or.jp
SUMMARY:第62回素形材産業優良従業員表彰
DESCRIPTION:第62回素形材産業優良従業員表彰 \n  \n〇募集母体：\n（一財）素形材センター \n〇公募の概要\n素形材関係企業の従業員で，技術，技能または事務処理が優秀であって，省エネルギー，環境改善，品質・生産性向上などにより，素形材産業の発展に貢献された方，あるいは勤続年数20年以上素形材産業の業務に精励され，一般従業員の模範となっている方を対象に，表彰するものです．本表彰は，これらの方々の功績をたたえ，平素のご労苦に報いるとともに従業員の士気の高揚を図り，もって我が国素形材産業の発展に寄与することを目的としています． \n〇表彰の対象・内容\n技術，技能または事務処理が優秀な方であって，品質・生産性向上などに貢献があった方や，勤続年数20年以上（複数企業における経験でも可）を業務に精励され一般従業員の模範となっている方を表彰します(ただし役員は対象になりません） \n〇表彰\n第30回素形材月間記念式典にて表彰式を行います．日時：令和６年１１月１日 \n〇応募方法\n応募書類（推薦状，推薦調査書，および履歴書）のフォーマットを素形材センター・ホームページ（https://www.sokeizai.or.jp/pages/136/）からダウンロードし，応募書類に必要事項をご記入のうえ，一式をEメールまたは郵送で素形材センター事務局へ提出する． \n〇応募締め切り\n8月30日(金) \n〇応募・問合せ先\n（一財）素形材センター　業務部　(田邊，藤橋)\n東京都港区芝公園3丁目5番8号　機械振興会館301号室\nTEL．03-3434-3907　ＦＡＸ．03-3434-3698　E-mail．gyoumu@sokeizai.or.jp \n≫ 詳細情報\n　※申込フォームも上記ダウンロードファイルに添付されています
URL:https://jfs.or.jp/event/%e7%ac%ac62%e5%9b%9e%e7%b4%a0%e5%bd%a2%e6%9d%90%e7%94%a3%e6%a5%ad%e5%84%aa%e8%89%af%e5%be%93%e6%a5%ad%e5%93%a1%e8%a1%a8%e5%bd%b0/
CATEGORIES:関連学協会イベント,公募等
END:VEVENT
BEGIN:VEVENT
DTSTART;VALUE=DATE:20240712
DTEND;VALUE=DATE:20240723
DTSTAMP:20260422T020607
CREATED:20240712T012743Z
LAST-MODIFIED:20240712T020158Z
UID:16799-1720742400-1721692799@jfs.or.jp
SUMMARY:素形材産業経営賞募集
DESCRIPTION:素形材産業経営賞\n \n  \n〇募集母体\n（一財）素形材センター \n〇公募の概要\n素形材産業経営賞は，(一財)素形材センターが本年度新たに創設する表彰制度で，優れた素形材企業経営によりわが国素形材産業における先進的な取組を実施した企業の経営者や担当者を表彰し，もってわが国素形材産業の振興に資することを目的としています． \n本表彰事業は，11月の素形材月間事業(本年で30回目)の中心に位置付けられており，経済産業省関係者等も列席して，表彰式を挙行する予定です． 素形材企業及び素形材業界を応援する表彰制度です． \n〇表彰の対象・内容\n次の➀～⑦の各項目について，顕著な功績を収めた経営者又は担当者\n①海外展開などの新事業展開や生産性向上に向けた取組（ビジネスモデル），②従業員がそれぞれの特長や経験を活かし，多様な人材が活躍できる場を提供する取組（ダイバーシティ），③従業員のワークライフバランスの実現のため，柔軟な勤務形態を取り入れ，キャリアアップの促進に向けた取組（柔軟な働き方），④従業員の健康を重要な経営資源と捉えて，個人の健康管理や増進により企業の業績向上に繋げる取組（健康経営），⑤従業員の人材育成等により，企業の組織力を強化する取組（人材育成），⑥リスク及びそのリスクが及ぼす影響を把握し，事前に対策を講じることで，危機発生を回避するとともに損失を極小化する取組（リスクマネジメント），⑦その他素形材産業の発展に極めて貢献度の高い取組 \n〇応募方法\n応募書類の様式(MS-Word 形式)は，素形材センターのホームページ からダウンロードし（https://www.sokeizai.or.jp/pages/140/），E メール(電子データ)または郵送(プリント 1 部，及び同書類を CD 等に格納した電子データ)のいずれかで送付する \n〇応募締め切り\n7月22日（月） \n〇応募・問合せ先\n（一財）素形材センター\n東京都港区芝公園3-5-8 械振興会館301号室\nTEL．03-3434-3907　FAX．03-3434-3698　E-mail．gyoumu@sokeizai.or.jp \n〇情報掲載HP　URL\nhttps://www.sokeizai.or.jp/ \n≫ 詳細情報\n　※申込フォームも上記ダウンロードファイルに添付されています
URL:https://jfs.or.jp/event/%e7%b4%a0%e5%bd%a2%e6%9d%90%e7%94%a3%e6%a5%ad%e7%b5%8c%e5%96%b6%e8%b3%9e-%e3%80%90%e8%b3%9e%e3%83%bb%e5%85%ac%e5%8b%9f%e7%ad%89%e6%a1%88%e5%86%85%e7%94%a8%e3%80%91/
CATEGORIES:関連学協会イベント,公募等
END:VEVENT
BEGIN:VEVENT
DTSTART;VALUE=DATE:20240712
DTEND;VALUE=DATE:20240713
DTSTAMP:20260422T020607
CREATED:20240628T010241Z
LAST-MODIFIED:20240628T010425Z
UID:16641-1720742400-1720828799@jfs.or.jp
SUMMARY:素形材技術研修講座「消失模型鋳造法」（オンライン研修講座）
DESCRIPTION:座 学：新大阪丸ビル 新館 （大阪市東淀川区）\n工場見学：㈱エクセディ鋳造\n素形材センター\n\n≫ 詳細情報
URL:https://jfs.or.jp/event/%e7%b4%a0%e5%bd%a2%e6%9d%90%e6%8a%80%e8%a1%93%e7%a0%94%e4%bf%ae%e8%ac%9b%e5%ba%a7%e3%80%8c%e6%b6%88%e5%a4%b1%e6%a8%a1%e5%9e%8b%e9%8b%b3%e9%80%a0%e6%b3%95%e3%80%8d/
LOCATION:オンライン研修講座
CATEGORIES:関連学協会イベント
END:VEVENT
BEGIN:VEVENT
DTSTART;VALUE=DATE:20240709
DTEND;VALUE=DATE:20240711
DTSTAMP:20260422T020607
CREATED:20240628T005536Z
LAST-MODIFIED:20240704T022537Z
UID:16634-1720483200-1720655999@jfs.or.jp
SUMMARY:（東京）デジタルラジオグラフィに関する技術講習会 －工業分野におけるデジタルラジオグラフィの基礎とその適用－
DESCRIPTION:東京：溶接会館（千代田区）\n大阪：CIVI研修センター（大阪市）\n日本溶接協会\n\n≫ 詳細情報 \n  \nデジタルラジオグラフィに関する技術講習会－工業分野におけるデジタルラジオグラフィの基礎とその適用－ \n主催団体名：（一社）日本溶接協会 \n〇開催日時\n東京：2024年7月9日（火）・10日（水），大阪：2024年8月5日（月）・6日（火） \n〇開催方法・場所\n東京：溶接会館（千代田区），大阪：CIVI 研修センター（大阪市） \n〇参加費（会員・非会員等で参加費が異なる場合は具体的に）\n日本溶接協会本部団体会員41\,800円，後援団体会員44\,000円，一般52\,800円（2日間，消費税込み） \n〇定員\n36名 \n〇申込方法\nオンラインで申し込む（https://www-it.jwes.or.jp/seminar/） \n〇問合せ先\n一社）日本溶接協会 非破壊試験技術実用化研究委員会事務局 今岡 \n〇内容\n（一社）日本溶接協会 非破壊試験技術実用化研究委員会では，D-RT に関する撮影実験，国内外規格の調査・研究を行い，海外との情報交換等を図って，D-RT の実用化に努めています．講習会の初日は，講義（D-RT の基礎，システム概要，撮影技術，画像評価），2 日目は主として D-RT 画像観察の実習とし，D-RT に関する規格に対する理解を深めるとともに，適用のための実務上のポイントについて学びます． \n〇情報掲載HP　URL\nhtpps://www.iwes.or.ip./about/membership/ \n〇その他特記事項\n本講習会ではテキストとして『工業分野におけるデジタルラジオグラフィの基礎とその適用－フィルムからデジタルへの展開－』 を使用しますので日本溶接協会 HPから購入下さい（定価 4\,000円（税込））
URL:https://jfs.or.jp/event/%ef%bc%88%e6%9d%b1%e4%ba%ac%ef%bc%89%e3%83%87%e3%82%b8%e3%82%bf%e3%83%ab%e3%83%a9%e3%82%b8%e3%82%aa%e3%82%b0%e3%83%a9%e3%83%95%e3%82%a3%e3%81%ab%e9%96%a2%e3%81%99%e3%82%8b%e6%8a%80%e8%a1%93%e8%ac%9b/
LOCATION:溶接会館 2 階ホール
CATEGORIES:関連学協会イベント
END:VEVENT
BEGIN:VEVENT
DTSTART;VALUE=DATE:20240618
DTEND;VALUE=DATE:20240621
DTSTAMP:20260422T020607
CREATED:20240628T005225Z
LAST-MODIFIED:20240628T005225Z
UID:16632-1718668800-1718927999@jfs.or.jp
SUMMARY:Twenty-first International Conference on Flow Dynamics（ICFD2024：第21回流動ダイナミクスに関する国際会議）
DESCRIPTION:仙台国際センター（仙台市）/オンライン\nICFD実行委員会\n\n≫ 詳細情報
URL:https://jfs.or.jp/event/twenty-first-international-conference-on-flow-dynamics%ef%bc%88icfd2024%ef%bc%9a%e7%ac%ac21%e5%9b%9e%e6%b5%81%e5%8b%95%e3%83%80%e3%82%a4%e3%83%8a%e3%83%9f%e3%82%af%e3%82%b9%e3%81%ab%e9%96%a2%e3%81%99/
CATEGORIES:関連学協会イベント
END:VEVENT
BEGIN:VEVENT
DTSTART;VALUE=DATE:20240611
DTEND;VALUE=DATE:20240612
DTSTAMP:20260422T020607
CREATED:20240628T004947Z
LAST-MODIFIED:20240628T004947Z
UID:16629-1718064000-1718150399@jfs.or.jp
SUMMARY:球場黒鉛鋳鉄（含むCV黒鉛鋳鉄）の生産技術
DESCRIPTION:オンライン：Webex Meetings\n素形材センター/日本鋳造工学会\n\n≫ 詳細情報
URL:https://jfs.or.jp/event/%e7%90%83%e5%a0%b4%e9%bb%92%e9%89%9b%e9%8b%b3%e9%89%84%ef%bc%88%e5%90%ab%e3%82%80cv%e9%bb%92%e9%89%9b%e9%8b%b3%e9%89%84%ef%bc%89%e3%81%ae%e7%94%9f%e7%94%a3%e6%8a%80%e8%a1%93/
CATEGORIES:関連学協会イベント
END:VEVENT
BEGIN:VEVENT
DTSTART;VALUE=DATE:20240311
DTEND;VALUE=DATE:20240312
DTSTAMP:20260422T020607
CREATED:20240625T065131Z
LAST-MODIFIED:20240625T065131Z
UID:16578-1710115200-1710201599@jfs.or.jp
SUMMARY:第49回「組織検査用試料の作り方（組織の現出）」講習会
DESCRIPTION:会場：一般財団法人　機械振興協会　機械振興会館　Ｂ3Ｆ　研修-1\n材料技術教育研究会\n\n≫ 詳細情報
URL:https://jfs.or.jp/event/%e7%ac%ac49%e5%9b%9e%e3%80%8c%e7%b5%84%e7%b9%94%e6%a4%9c%e6%9f%bb%e7%94%a8%e8%a9%a6%e6%96%99%e3%81%ae%e4%bd%9c%e3%82%8a%e6%96%b9%ef%bc%88%e7%b5%84%e7%b9%94%e3%81%ae%e7%8f%be%e5%87%ba%ef%bc%89%e3%80%8d/
CATEGORIES:関連学協会イベント
END:VEVENT
BEGIN:VEVENT
DTSTART;VALUE=DATE:20240304
DTEND;VALUE=DATE:20240305
DTSTAMP:20260422T020607
CREATED:20240625T064915Z
LAST-MODIFIED:20240625T064915Z
UID:16574-1709510400-1709596799@jfs.or.jp
SUMMARY:第5回世界エンジニアリングデー記念シンポジウム
DESCRIPTION:オンライン：Zoomウェビナー\n日本工学会\n\n≫ 詳細情報
URL:https://jfs.or.jp/event/%e7%ac%ac5%e5%9b%9e%e4%b8%96%e7%95%8c%e3%82%a8%e3%83%b3%e3%82%b8%e3%83%8b%e3%82%a2%e3%83%aa%e3%83%b3%e3%82%b0%e3%83%87%e3%83%bc%e8%a8%98%e5%bf%b5%e3%82%b7%e3%83%b3%e3%83%9d%e3%82%b8%e3%82%a6-2/
CATEGORIES:関連学協会イベント
END:VEVENT
BEGIN:VEVENT
DTSTART;VALUE=DATE:20240304
DTEND;VALUE=DATE:20240305
DTSTAMP:20260422T020607
CREATED:20240625T064735Z
LAST-MODIFIED:20240625T064735Z
UID:16572-1709510400-1709596799@jfs.or.jp
SUMMARY:第5回世界エンジニアリングデー記念シンポジウム
DESCRIPTION:オンライン：Zoomウェビナー\n日本工学会\n\n≫ 詳細情報
URL:https://jfs.or.jp/event/%e7%ac%ac5%e5%9b%9e%e4%b8%96%e7%95%8c%e3%82%a8%e3%83%b3%e3%82%b8%e3%83%8b%e3%82%a2%e3%83%aa%e3%83%b3%e3%82%b0%e3%83%87%e3%83%bc%e8%a8%98%e5%bf%b5%e3%82%b7%e3%83%b3%e3%83%9d%e3%82%b8%e3%82%a6%e3%83%a0/
CATEGORIES:関連学協会イベント
END:VEVENT
BEGIN:VEVENT
DTSTART;VALUE=DATE:20240301
DTEND;VALUE=DATE:20240302
DTSTAMP:20260422T020607
CREATED:20240625T064537Z
LAST-MODIFIED:20240625T064537Z
UID:16568-1709251200-1709337599@jfs.or.jp
SUMMARY:アルミニウム合金同種及び異種材料との接合技術最前線～マルチマテリアル化のキーテクノロジー～（第131回シンポジウム）
DESCRIPTION:会場：名古屋工業大学 3 号館 2 階大会議室\n軽金属学会\n\n≫ 詳細情報
URL:https://jfs.or.jp/event/%e3%82%a2%e3%83%ab%e3%83%9f%e3%83%8b%e3%82%a6%e3%83%a0%e5%90%88%e9%87%91%e5%90%8c%e7%a8%ae%e5%8f%8a%e3%81%b3%e7%95%b0%e7%a8%ae%e6%9d%90%e6%96%99%e3%81%a8%e3%81%ae%e6%8e%a5%e5%90%88%e6%8a%80%e8%a1%93/
LOCATION:名古屋工業大学 3 号館 2 階大会議室\, 名古屋市昭和区御器所町
CATEGORIES:関連学協会イベント
END:VEVENT
BEGIN:VEVENT
DTSTART;VALUE=DATE:20240101
DTEND;VALUE=DATE:20240401
DTSTAMP:20260422T020607
CREATED:20240622T011658Z
LAST-MODIFIED:20240625T063343Z
UID:16555-1704067200-1711929599@jfs.or.jp
SUMMARY:超音波探傷試験 UT-2 の演習問題と解説を主体にした学習
DESCRIPTION:eラーニング\n日本非破壊検査工業会\n\n≫ 詳細情報
URL:https://jfs.or.jp/event/%e8%b6%85%e9%9f%b3%e6%b3%a2%e6%8e%a2%e5%82%b7%e8%a9%a6%e9%a8%93-ut-2-%e3%81%ae%e6%bc%94%e7%bf%92%e5%95%8f%e9%a1%8c%e3%81%a8%e8%a7%a3%e8%aa%ac%e3%82%92%e4%b8%bb%e4%bd%93%e3%81%ab%e3%81%97%e3%81%9f/
CATEGORIES:関連学協会イベント
END:VEVENT
END:VCALENDAR