BEGIN:VCALENDAR
VERSION:2.0
PRODID:-//公益社団法人 日本鋳造工学会 - ECPv6.7.0//NONSGML v1.0//EN
CALSCALE:GREGORIAN
METHOD:PUBLISH
X-WR-CALNAME:公益社団法人 日本鋳造工学会
X-ORIGINAL-URL:https://jfs.or.jp
X-WR-CALDESC:公益社団法人 日本鋳造工学会 のイベント
REFRESH-INTERVAL;VALUE=DURATION:PT1H
X-Robots-Tag:noindex
X-PUBLISHED-TTL:PT1H
BEGIN:VTIMEZONE
TZID:Asia/Tokyo
BEGIN:STANDARD
TZOFFSETFROM:+0900
TZOFFSETTO:+0900
TZNAME:JST
DTSTART:20240101T000000
END:STANDARD
END:VTIMEZONE
BEGIN:VEVENT
DTSTART;VALUE=DATE:20241128
DTEND;VALUE=DATE:20241129
DTSTAMP:20260422T015123
CREATED:20241120T022616Z
LAST-MODIFIED:20241120T022616Z
UID:17292-1732752000-1732838399@jfs.or.jp
SUMMARY:構造材料(2) 非鉄材料編（日本金属学会オンライン教育講座）
DESCRIPTION:オンライン（Zoom）\n　（公社）日本鋳造工学会\n\n≫ 詳細情報 \n  \n構造材料(2) 非鉄材料編（日本金属学会オンライン教育講座） \n主催団体名:　（公社）日本鋳造工学会 \n〇開催日時\n2024年11月28日(木)，29日（金）13:30～16:45 \n〇場所（名称・所在地）\nオンライン（Zoom） \n〇参加費（会員・非会員等で参加費が異なる場合は具体的に）\n日本金属学会正員20\,000円，学生8\,000円，非会員40\,000円．日本金属学会維持員会社社員，協賛学協会会員は正員扱い．学生は会員非会員の区別なし \n〇申込方法\n日本金属学会ホームページから申し込む（https://www.jim.or.jp/seminersymposium/） \n〇申込締め切り\n11月21日（木） \n〇問合せ先\n（公社）日本金属学会 セミナー・シンポジウム参加係 \nTEL．022-223-3685　E-mail．meeting(at)jimm.jp　*(at)を@に変換してください \n〇内容\n代表的な非鉄金属である，銅合金，チタン合金，アルミニウム合金，マグネシウム合金について基礎から解説を行います．\n【11月28日】\n⑴銅合金（金沢大学）門前亮一，⑵チタン合金（大阪大学・東北大学）新家光雄\n【11月29日】\n⑶アルミニウム合金（東京工業大学・㈱神戸製鋼所）里達雄，⑷マグネシウム合金（長岡技術科学大学）鎌土重晴 \n〇情報掲載HP　URL\nhttps://www.jim.or.jp/
URL:https://jfs.or.jp/event/%e6%a7%8b%e9%80%a0%e6%9d%90%e6%96%992-%e9%9d%9e%e9%89%84%e6%9d%90%e6%96%99%e7%b7%a8%ef%bc%88%e6%97%a5%e6%9c%ac%e9%87%91%e5%b1%9e%e5%ad%a6%e4%bc%9a%e3%82%aa%e3%83%b3%e3%83%a9%e3%82%a4%e3%83%b3/
CATEGORIES:関連学協会イベント
END:VEVENT
END:VCALENDAR