BEGIN:VCALENDAR
VERSION:2.0
PRODID:-//公益社団法人 日本鋳造工学会 - ECPv6.7.0//NONSGML v1.0//EN
CALSCALE:GREGORIAN
METHOD:PUBLISH
X-WR-CALNAME:公益社団法人 日本鋳造工学会
X-ORIGINAL-URL:https://jfs.or.jp
X-WR-CALDESC:公益社団法人 日本鋳造工学会 のイベント
REFRESH-INTERVAL;VALUE=DURATION:PT1H
X-Robots-Tag:noindex
X-PUBLISHED-TTL:PT1H
BEGIN:VTIMEZONE
TZID:Asia/Tokyo
BEGIN:STANDARD
TZOFFSETFROM:+0900
TZOFFSETTO:+0900
TZNAME:JST
DTSTART:20250101T000000
END:STANDARD
END:VTIMEZONE
BEGIN:VEVENT
DTSTART;VALUE=DATE:20251120
DTEND;VALUE=DATE:20251122
DTSTAMP:20260421T064741
CREATED:20250917T021014Z
LAST-MODIFIED:20250917T021014Z
UID:18956-1763596800-1763769599@jfs.or.jp
SUMMARY:アルミニウムの製造技術 （軽⾦属基礎技術講座）
DESCRIPTION:つま恋リゾート彩の郷（静岡県掛川市）\n（一社）軽金属学会\n\n≫ 詳細情報 \n  \nアルミニウムの製造技術 （軽⾦属基礎技術講座） \n主催団体名:（一社）軽金属学会 \n〇開催日時\n2025年11⽉20⽇（⽊），21⽇（⾦） \n〇場所（名称・所在地）\nつま恋リゾート彩の郷（静岡県掛川市） \n〇参加費（会員・非会員等で参加費が異なる場合は具体的に）\n軽金属学会正会員25\,000円，維持会員・協賛学協会員40\,000円，⾮会員60\,000円．テキスト代，1泊 2⽇2⾷付き宿泊費，2昼食費，消費税込 \n〇定員\n40名 \n〇対象\nアルミニウム関係（製造・ユーザー）若⼿・中堅技術者，およびアルミニウムの上⼯程から下⼯程にわたる広い基礎技術の知識を得たい⽅ \n〇申込方法\n軽⾦属学会ホームページ（http://www.jilm.or.jp/）から申し込む \n〇連絡先・問合せ先\n(一社）軽⾦属学会\nTEL．03-3538-0232　E-mail．jilm-general(at)jilm.or.jp *(at)を＠に変換してください. \n〇内容\n本講座は，新たにアルミニウム関連の仕事に従事された⽅，あるいはすでに関係⽅⾯でご活躍の若⼿・中堅の技術者の⽅に，アルミニウム製品の製造⼯程全般にわたる基礎技術の解説を通してより広い製造分野についての勉強の機会を持っていただくと同時に，受講⽣同⼠の交流を深めることを⽬的としています．\n【1日目】\n(1)「アルミニウムの製錬」（日本軽金属）松村浩幸，\n(2)「アルミニウムの溶解と連続鋳造」（神戸製鋼所）山口勝弘，\n(3)「展伸用アルミニウム合金とその熱処理」（UACJ）北脇⾼太郎，\n(4)「アルミニウムの圧延」（UACJ）小林亮太，\n(5)懇親会\n【2日目】\n(6)「アルミニウムの薄板成形」（UACJ）新野拓，\n(7)「アルミニウム鋳物ダイカスト」（日軽松尾）小林淳，\n(8)「アルミニウムの押出」（日軽金アクト）谷津倉政仁，\n(9)「アルミニウムの鍛造」（神戸製鋼所）小磯尚大，\n(10)「アルミニウムの表面処理」（UACJ）中島大希，\n(11)「アルミニウムの接合」（神戸製鋼所）岩瀬哲 \n〇情報掲載HP URL\nhttp://www.jilm.or.jp/
URL:https://jfs.or.jp/event/%e3%82%a2%e3%83%ab%e3%83%9f%e3%83%8b%e3%82%a6%e3%83%a0%e3%81%ae%e8%a3%bd%e9%80%a0%e6%8a%80%e8%a1%93-%ef%bc%88%e8%bb%bd%e2%be%a6%e5%b1%9e%e5%9f%ba%e7%a4%8e%e6%8a%80%e8%a1%93%e8%ac%9b%e5%ba%a7-2/
CATEGORIES:関連学協会イベント
END:VEVENT
END:VCALENDAR