BEGIN:VCALENDAR
VERSION:2.0
PRODID:-//公益社団法人 日本鋳造工学会 - ECPv6.7.0//NONSGML v1.0//EN
CALSCALE:GREGORIAN
METHOD:PUBLISH
X-ORIGINAL-URL:https://jfs.or.jp
X-WR-CALDESC:公益社団法人 日本鋳造工学会 のイベント
REFRESH-INTERVAL;VALUE=DURATION:PT1H
X-Robots-Tag:noindex
X-PUBLISHED-TTL:PT1H
BEGIN:VTIMEZONE
TZID:Asia/Tokyo
BEGIN:STANDARD
TZOFFSETFROM:+0900
TZOFFSETTO:+0900
TZNAME:JST
DTSTART:20250101T000000
END:STANDARD
END:VTIMEZONE
BEGIN:VEVENT
DTSTART;TZID=Asia/Tokyo:20251205T133000
DTEND;TZID=Asia/Tokyo:20251205T190000
DTSTAMP:20260421T050623
CREATED:20251113T023055Z
LAST-MODIFIED:20251113T023055Z
UID:19230-1764941400-1764961200@jfs.or.jp
SUMMARY:新たな価値創造と業務改革を進める省人化生産技術（第102回塑性加工技術フォーラム）
DESCRIPTION:機械振興会館（東京都港区）\n日本塑性加工学会／日本鍛圧機械工業会\n\n≫ 詳細情報 \n  \n新たな価値創造と業務改革を進める省人化生産技術（第102回塑性加工技術フォーラム） \n主催団体名:日本塑性加工学会／日本鍛圧機械工業会 \n〇開催日時\n2025年12月5日（金）　13：30～19：00 \n〇場所（名称・所在地）\n機械振興会館（東京都港区） \n〇参加費（会員・非会員等で参加費が異なる場合は具体的に）\n正会員・賛助会員・協賛学協会個人会員10\,000円，学生会員5\,000円，一般15\,000円，会員外学生7\,500円 \n〇定員\n60名 \n〇申込方法\n日本塑性学会ホームページ(http://www.jstp.or.jp)【行事案内】から申し込む \n〇申込締め切り\n11月28日（金）　17：00 \n〇連絡先・問合せ先\n(一社）日本塑性加工学会\nTEL．03–3435–8301 \n〇内容\n本フォーラムは，日本鍛圧機械工業会と日本塑性加工学会の共催による企画行事です．人手不足や生産体制の変化といった社会的リスクを成長のチャンスと捉え，新たな価値創造と業務改革を進める省人化技術，デジタル化技術，教育分野の最先端技術や研究について幅広く発表します．さらに\,本フォーラムは，塑性加工技術の研究開発に関して産学連携を深めることのできる内容となっています．講演会終了後に，講師や参加者同士の情報交換とネットワークづくりのための懇親会（参加費無料）を行います．\n(1)「鍛造のデジタルトランスフォーメーション」（日産自動車）藤川真一郎，\n(2)「レーザー微細加工におけるインフォマティクス技術の活用」（産業技術総合研究所）吉富 大，\n(3)「革新的な金属加工技術に寄与するプロセス可視化とDXへの取組み」（東京都立大学）楊 明，\n(4)「外観検査AIの変遷」（岐阜大学）林 良和 \n〇情報掲載HP URL\nhttp://www.jstp.or.jp
URL:https://jfs.or.jp/event/%e6%96%b0%e3%81%9f%e3%81%aa%e4%be%a1%e5%80%a4%e5%89%b5%e9%80%a0%e3%81%a8%e6%a5%ad%e5%8b%99%e6%94%b9%e9%9d%a9%e3%82%92%e9%80%b2%e3%82%81%e3%82%8b%e7%9c%81%e4%ba%ba%e5%8c%96%e7%94%9f%e7%94%a3%e6%8a%80/
CATEGORIES:関連学協会イベント
END:VEVENT
END:VCALENDAR