BEGIN:VCALENDAR
VERSION:2.0
PRODID:-//公益社団法人 日本鋳造工学会 - ECPv6.7.0//NONSGML v1.0//EN
CALSCALE:GREGORIAN
METHOD:PUBLISH
X-WR-CALNAME:公益社団法人 日本鋳造工学会
X-ORIGINAL-URL:https://jfs.or.jp
X-WR-CALDESC:公益社団法人 日本鋳造工学会 のイベント
REFRESH-INTERVAL;VALUE=DURATION:PT1H
X-Robots-Tag:noindex
X-PUBLISHED-TTL:PT1H
BEGIN:VTIMEZONE
TZID:Asia/Tokyo
BEGIN:STANDARD
TZOFFSETFROM:+0900
TZOFFSETTO:+0900
TZNAME:JST
DTSTART:20250101T000000
END:STANDARD
END:VTIMEZONE
BEGIN:VEVENT
DTSTART;VALUE=DATE:20251208
DTEND;VALUE=DATE:20251210
DTSTAMP:20260421T050617
CREATED:20251113T023133Z
LAST-MODIFIED:20251113T023133Z
UID:19234-1765152000-1765324799@jfs.or.jp
SUMMARY:医療用無機材料の表面反応（日本金属学会オンライン教育講座）
DESCRIPTION:オンライン（Zoom）\n（公社）日本金属学会\n\n≫ 詳細情報 \n  \n医療用無機材料の表面反応（日本金属学会オンライン教育講座） \n主催団体名:（公社）日本金属学会 \n〇開催日時\n2025年12月8日（月），9日（火） \n〇場所（名称・所在地）\nオンライン（Zoom） \n〇参加費（会員・非会員等で参加費が異なる場合は具体的に）\n日本金属学会正員20\,000円，非会員40\,000円，学生8\,000円．日本金属学会維持員社員，協賛学協会員は正員扱い．学生は会員非会員同額． \n〇申込方法\n申込サイトから申し込む（https://event.atlas.jp/ja/jimm/S0006）．今年度２講座目以降の受講はこちら（https://event.atlas.jp/ja/jimm/S0007） \n〇申込締め切り\n12月1日（月） \n〇連絡先・問合せ先\n（公社）日本金属学会 セミナー・シンポジウム参加係\nTEL．022-223-3685　E-mail．meeting(at)jimm.jp *(at)を＠に変換してください. \n〇内容\n医療用無機材料に用いられる表面反応による抗菌化や骨結合性付与について，基礎から応用までを解説します．当日に受講できない方や理解を深めたい受講者の方のために，開催後に講義のオンデマンド配信を行います．受講申し込み者は追加料金なしに視聴できます．\n(1)「生体親和性セラミックスの基礎と機能強化」（名古屋工業大学）春日敏宏，\n(2)「チタン・チタン合金の表面処理の基礎と抗菌化」（東北大学）成島尚之 \n〇情報掲載HP　URL\nhttps://jimm.jp/
URL:https://jfs.or.jp/event/%e5%8c%bb%e7%99%82%e7%94%a8%e7%84%a1%e6%a9%9f%e6%9d%90%e6%96%99%e3%81%ae%e8%a1%a8%e9%9d%a2%e5%8f%8d%e5%bf%9c%ef%bc%88%e6%97%a5%e6%9c%ac%e9%87%91%e5%b1%9e%e5%ad%a6%e4%bc%9a%e3%82%aa%e3%83%b3%e3%83%a9/
CATEGORIES:関連学協会イベント
END:VEVENT
END:VCALENDAR