BEGIN:VCALENDAR
VERSION:2.0
PRODID:-//公益社団法人 日本鋳造工学会 - ECPv6.7.0//NONSGML v1.0//EN
CALSCALE:GREGORIAN
METHOD:PUBLISH
X-WR-CALNAME:公益社団法人 日本鋳造工学会
X-ORIGINAL-URL:https://jfs.or.jp
X-WR-CALDESC:公益社団法人 日本鋳造工学会 のイベント
REFRESH-INTERVAL;VALUE=DURATION:PT1H
X-Robots-Tag:noindex
X-PUBLISHED-TTL:PT1H
BEGIN:VTIMEZONE
TZID:Asia/Tokyo
BEGIN:STANDARD
TZOFFSETFROM:+0900
TZOFFSETTO:+0900
TZNAME:JST
DTSTART:20250101T000000
END:STANDARD
END:VTIMEZONE
BEGIN:VEVENT
DTSTART;TZID=Asia/Tokyo:20251211T130000
DTEND;TZID=Asia/Tokyo:20251211T150000
DTSTAMP:20260421T050618
CREATED:20251113T023220Z
LAST-MODIFIED:20251113T023220Z
UID:19236-1765458000-1765465200@jfs.or.jp
SUMMARY:素形材産業のデジタル技術活用による価値創出「素形材企業のDXへの選択肢」
DESCRIPTION:オンライン（Teams）\n（一財）素形材センター\n\n≫ 詳細情報 \n  \n素形材産業のデジタル技術活用による価値創出「素形材企業のDXへの選択肢」 \n主催団体名:（一財）素形材センター \n〇開催日時\n2025年12月11日（木）　13：00 ～ 15：00 \n〇場所（名称・所在地）\nオンライン（Teams） \n〇参加費（会員・非会員等で参加費が異なる場合は具体的に）\n素形材センター会員：無料，非会員3\,000円 \n〇申込方法\n申込サイトから申し込む（https://www.sokeizai.or.jp/pages/28/） \n〇申込締め切り\n12月3日（水） \n〇連絡先・問合せ先\n（一財）素形材センター　企画部\nTEL．03-3434-3907 E-mail．kikaku(at)sokeizai.or.jp *(at)を＠に変換してください. \n〇内容\n情報処理推進機構「DX動向2024」によると，中小企業，特に従業員100人以下の企業におけるDXの取り組みは，大企業と比べて半分以下にとどまっています．理由としては，「DXに関する知識や人材の不足」が挙げられ，100人以下の企業に限ってみると「予算の不足」や「DXのメリットが不明」といった課題も浮かび上がっています．本セミナーでは具体的な事例を紹介，中小素形材企業におけるDX推進の一助となることを願っております．\n(1)[素形材企業が開発したシステム]「IoTGOの開発と活用による生産性向上/導入事例紹介」（久野金属工業）久野功雄・（福富金属）川崎泰輔，\n(2)[目的を絞ったDX支援]「熟練者が持つ品質安定化技能をAIで再現する必要性とその成果事例」（三菱総研DCS）永田貴弘，\n(3)[現場データの収集と活用]「可視化で“違い”が分かる～設備・品質トラブルを未然に防ぐ．現場で始める予兆検知～」（サイバネットシステム）遠藤弘紀 \n〇情報掲載HP URL\nhttps://www.sokeizai.or.jp/pages/28/
URL:https://jfs.or.jp/event/%e7%b4%a0%e5%bd%a2%e6%9d%90%e7%94%a3%e6%a5%ad%e3%81%ae%e3%83%87%e3%82%b8%e3%82%bf%e3%83%ab%e6%8a%80%e8%a1%93%e6%b4%bb%e7%94%a8%e3%81%ab%e3%82%88%e3%82%8b%e4%be%a1%e5%80%a4%e5%89%b5%e5%87%ba%e3%80%8c/
CATEGORIES:関連学協会イベント
END:VEVENT
END:VCALENDAR