BEGIN:VCALENDAR
VERSION:2.0
PRODID:-//公益社団法人 日本鋳造工学会 - ECPv6.7.0//NONSGML v1.0//EN
CALSCALE:GREGORIAN
METHOD:PUBLISH
X-ORIGINAL-URL:https://jfs.or.jp
X-WR-CALDESC:公益社団法人 日本鋳造工学会 のイベント
REFRESH-INTERVAL;VALUE=DURATION:PT1H
X-Robots-Tag:noindex
X-PUBLISHED-TTL:PT1H
BEGIN:VTIMEZONE
TZID:Asia/Tokyo
BEGIN:STANDARD
TZOFFSETFROM:+0900
TZOFFSETTO:+0900
TZNAME:JST
DTSTART:20250101T000000
END:STANDARD
END:VTIMEZONE
BEGIN:VEVENT
DTSTART;VALUE=DATE:20251218
DTEND;VALUE=DATE:20251220
DTSTAMP:20260421T050623
CREATED:20251113T023249Z
LAST-MODIFIED:20251113T023249Z
UID:19237-1766016000-1766188799@jfs.or.jp
SUMMARY:金属材料の耐環境性(3)水素脆化と水素検出・計測技術（日本金属学会オンライン教育講座）
DESCRIPTION:オンライン（Zoom）\n（一財）日本金属学会\n\n≫ 詳細情報 \n  \n金属材料の耐環境性(3)水素脆化と水素検出・計測技術（日本金属学会オンライン教育講座） \n主催団体名:（一財）日本金属学会 \n〇開催日時\n2025年12月18日(木)，19日（金） \n〇場所（名称・所在地）\nオンライン（Zoom） \n〇参加費（会員・非会員等で参加費が異なる場合は具体的に）\n日本金属学会正員20\,000円，非会員40\,000円，学生8\,000円．日本金属学会維持員社員，協賛学協会員は正員扱い．学生は会員非会員同額． \n〇申込方法\n申込サイトから申し込む（https://event.atlas.jp/ja/jimm/S0012）．今年度２講座目以降の受講はこちら（https://event.atlas.jp/ja/jimm/S0013） \n〇申込締め切り\n12月11日（木） \n〇連絡先・問合せ先\n（公社）日本金属学会 セミナー・シンポジウム参加係\nTEL．022-223-3685　E-mail．meeting(at)jimm.jp *(at)を＠に変換してください. \n〇内容\nカーボンニュートラル社会実現に向け，二酸化炭素の排出を抑制することが求められています．運輸の分野では輸送機器の軽量化のために金属材料の高強度化が必須とされ，材料の高強度化は水素脆性及び遅れ破壊感受性への対策が急務とされています．本講座では水素侵入および脆化，水素の局所解析ならびに検出技術を解説します．\n(1)「金属材料の水素脆性～潜伏期から破壊まで～」（上智大学）高井健一，\n(2)「金属材料中の水素の局所解析」（九州大学）戸田裕之，\n(3)「水素可視化技術」（北海道大学）伏見公志，\n(4)「リアルタイム水素検出技術」（島根大学）菅原 優 \n〇情報掲載HP URL\nhttps://jimm.jp/
URL:https://jfs.or.jp/event/%e9%87%91%e5%b1%9e%e6%9d%90%e6%96%99%e3%81%ae%e8%80%90%e7%92%b0%e5%a2%83%e6%80%a73%e6%b0%b4%e7%b4%a0%e8%84%86%e5%8c%96%e3%81%a8%e6%b0%b4%e7%b4%a0%e6%a4%9c%e5%87%ba%e3%83%bb%e8%a8%88%e6%b8%ac/
CATEGORIES:関連学協会イベント
END:VEVENT
END:VCALENDAR