BEGIN:VCALENDAR
VERSION:2.0
PRODID:-//公益社団法人 日本鋳造工学会 - ECPv6.7.0//NONSGML v1.0//EN
CALSCALE:GREGORIAN
METHOD:PUBLISH
X-WR-CALNAME:公益社団法人 日本鋳造工学会
X-ORIGINAL-URL:https://jfs.or.jp
X-WR-CALDESC:公益社団法人 日本鋳造工学会 のイベント
REFRESH-INTERVAL;VALUE=DURATION:PT1H
X-Robots-Tag:noindex
X-PUBLISHED-TTL:PT1H
BEGIN:VTIMEZONE
TZID:Asia/Tokyo
BEGIN:STANDARD
TZOFFSETFROM:+0900
TZOFFSETTO:+0900
TZNAME:JST
DTSTART:20260101T000000
END:STANDARD
END:VTIMEZONE
BEGIN:VEVENT
DTSTART;VALUE=DATE:20260430
DTEND;VALUE=DATE:20260501
DTSTAMP:20260420T200246
CREATED:20260309T024524Z
LAST-MODIFIED:20260309T024524Z
UID:19926-1777507200-1777593599@jfs.or.jp
SUMMARY:「ファンドリーテック + エキスポ 2026」出展募集
DESCRIPTION:（一社）日本鋳造協会\n≫詳細情報\n\n「ファンドリーテック + エキスポ 2026」出展募集 \n主催団体名:（一社）日本鋳造協会 \n〇公募概要\n本展示会は，鋳造技術とそれに関連する最新の設備・材料・ソリューションを一堂に集め，鋳造産業のさらなる発展と持続可能な社会の実現に貢献することを目的としています．各企業・団体のブース出展に加え，基調講演などのセミナーを通じて最新の技術や研究成果の共有を図ります．また，次世代を担う人材の育成と産学連携の促進を目標とします． \n〇出店対象\n各種鋳造メーカー／鋳造機械・溶解炉／ロボット・自動化ロボット／溶解原料、副資材、造型材料／燃焼機器、発熱体／耐火物、耐熱鋼／計測・制御機器、搬送装置／表面加工処理技術、機器／遠赤外線関連機器／電熱関連機器、発電・電源装置、伝熱解析・熱流体解析機器／エネルギー供給機器 ／ボイラー・暖房機器／各種熱・冷熱関連機器、応用機器、冷熱技術、サービス ／環境・カーボンニュートラル関連設備・技術／廃棄物関連設備、技術／ ICT・DX関連／各種研究機関・大学／その他関連製品・サービス \n〇出展料\n1 小間（9㎡：間口3m×奥行3m）あたり，日本鋳造協会正会員360\,000円，賛助会員380\,000円，一般関連企業440\,000円．消費税別 \n〇応募方法\n出展申込書（サイトからダウンロードする）で申し込む \n〇応募締め切り\n4月30日（木） \n〇問い合わせ先\nFoundry Tech + Expo 事務局　メッセフランクフルト ジャパン株式会社\nTEL．03-3262-8410\nE-mail．info(at)foundrytechexpo.com*(at)を＠に変換してください. \n〇情報掲載HP　URL\nwww.foundrytechexpo.com
URL:https://jfs.or.jp/event/%e3%80%8c%e3%83%95%e3%82%a1%e3%83%b3%e3%83%89%e3%83%aa%e3%83%bc%e3%83%86%e3%83%83%e3%82%af-%e3%82%a8%e3%82%ad%e3%82%b9%e3%83%9d-2026%e3%80%8d%e5%87%ba%e5%b1%95%e5%8b%9f%e9%9b%86/
CATEGORIES:関連学協会イベント,公募等
END:VEVENT
END:VCALENDAR