BEGIN:VCALENDAR
VERSION:2.0
PRODID:-//公益社団法人 日本鋳造工学会 - ECPv6.7.0//NONSGML v1.0//EN
CALSCALE:GREGORIAN
METHOD:PUBLISH
X-WR-CALNAME:公益社団法人 日本鋳造工学会
X-ORIGINAL-URL:https://jfs.or.jp
X-WR-CALDESC:公益社団法人 日本鋳造工学会 のイベント
REFRESH-INTERVAL;VALUE=DURATION:PT1H
X-Robots-Tag:noindex
X-PUBLISHED-TTL:PT1H
BEGIN:VTIMEZONE
TZID:Asia/Tokyo
BEGIN:STANDARD
TZOFFSETFROM:+0900
TZOFFSETTO:+0900
TZNAME:JST
DTSTART:20250101T000000
END:STANDARD
END:VTIMEZONE
BEGIN:VEVENT
DTSTART;TZID=Asia/Tokyo:20250625T130000
DTEND;TZID=Asia/Tokyo:20250625T150000
DTSTAMP:20260421T140046
CREATED:20250611T025023Z
LAST-MODIFIED:20250611T025023Z
UID:18523-1750856400-1750863600@jfs.or.jp
SUMMARY:素形材産業を取り巻く経営環境変化への対応－2025素形材産業ビジョンの解説と，挑戦する企業の取組事例－（素形材経営セミナー）
DESCRIPTION:オンライン（Teams）\n（一財）素形材センター\n\n≫ 詳細情報 \n  \n素形材産業を取り巻く経営環境変化への対応－2025素形材産業ビジョンの解説と，挑戦する企業の取組事例－（素形材経営セミナー） \n主催団体名:（一財）素形材センター \n〇開催日時\n2025年6月25日（水）13：00～15：00 \n〇場所（名称・所在地）\nオンライン（Teams） \n〇参加費（会員・非会員等で参加費が異なる場合は具体的に）\n素形材センター会員：無料，非会員：3\,000円 \n〇定員\n40名 \n〇申込方法\n素形材センターホームページから申し込む（https://www.sokeizai.or.jp/pages/28/） \n〇申込締め切り\n6月20日（金） \n〇連絡先・問合せ先\n（一財）素形材センター　企画部\nTEL．03-3434-3907　E-mail．kensyu(at)sokeizai.or.jp*(at)を@に変換してください. \n〇内容\n本セミナーは，経済産業省が策定した「素形材ビジョン」の中身を解説するとともに，「前向きな挑戦を行う素形材企業」の中から特に「経営力，海外展開」への取組で成果を挙げられている2社にご講演頂きます．皆様のご参加をお待ちしております． \n\n(1)「2025年版「素形材産業ビジョン」の策定について」（経済産業省　製造産業局　素形材産業室　室長）星野昌志，\n(2)「新技術で人と市場を惹きつける企業づくり」（（株）キャステム）戸田拓夫，\n(3)「残りも地獄，行くも地獄なら，行ってみた中小企業の海外展開」（（株）ミナミダ）南田剛志 \n〇情報掲載HP URL\nhttps://www.sokeizai.or.jp/ \n〇情報掲載HP URL\n2025素形材産業ビジョンの本文は月刊素形材６月号に掲載予定です．\n下記リンクからもご覧になれます．\nhttps://www.meti.go.jp/policy/mono_info_service/mono/sokeizai/vision.pdf
URL:https://jfs.or.jp/event/%e7%b4%a0%e5%bd%a2%e6%9d%90%e7%94%a3%e6%a5%ad%e3%82%92%e5%8f%96%e3%82%8a%e5%b7%bb%e3%81%8f%e7%b5%8c%e5%96%b6%e7%92%b0%e5%a2%83%e5%a4%89%e5%8c%96%e3%81%b8%e3%81%ae%e5%af%be%e5%bf%9c%ef%bc%8d2025/
CATEGORIES:関連学協会イベント
END:VEVENT
BEGIN:VEVENT
DTSTART;TZID=Asia/Tokyo:20250627T100000
DTEND;TZID=Asia/Tokyo:20250627T170000
DTSTAMP:20260421T140046
CREATED:20250521T030206Z
LAST-MODIFIED:20250521T030206Z
UID:18378-1751018400-1751043600@jfs.or.jp
SUMMARY:【基礎講座】見た目以上の価値を創る！「表面処理」の世界
DESCRIPTION:ハイブリッド式（上智大学四谷キャンパス（東京都千代田区）/オンライン\n（公社）精密工学会\n\n  \n【基礎講座】見た目以上の価値を創る！「表面処理」の世界 \n主催団体名:（公社）精密工学会 \n〇開催日時\n2025年6月27日（金）10 ：00～16：50 \n〇場所（名称・所在地）\nハイブリッド式（上智大学四谷キャンパス（東京都千代田区）/オンライン \n〇参加費（会員・非会員等で参加費が異なる場合は具体的に）\n精密工学会会員22\,000円，学生会員2\,200円，非会員36\,300円，学生非会員 7\,700円（講習会テキスト代，消費税込）．賛助会員及び協賛団体会員は会員扱い \n〇定員\n会場：60名，オンライン：100名 \n〇受講対象\nある程度現場を経験された方 \n〇申込方法\n精密工学会ホームページ（https://www.jspe.or.jp/custom-event/event-13036/）から申し込む \n〇申込締め切り\n6月20日（金） \n〇連絡先・問合せ先\n（公社）精密工学会　TEL．03-5226-5191 \n〇内容\n金型など，さまざまな分野で使われる，「表面処理」についての基礎講座を開講します．微細加工による表面への機能創成やその適用事例，PVD コーティング，微粒子ピーニングによる処理技術のほか，表面処理により生じる表面の機械的特性の評価やコーティングの耐久性評価などの講演を用意いたしました．\n(1)「多様な機能を実現する表面微細構造とその加工法」（東京都立大学）諸貫信行，(2)「ローラバニシング加工による金属部品の表面改質効果について」（（株）スギノマシン）二村 優，(3)「PVDコーティングの基礎とプレス金型向けの事例紹介」（エリコンジャパン（株））大崎隆史，(4)「簡単で便利な表面改質（高周波誘導加熱と微粒子ピーニングを利用した表面処理）」（慶應義塾大学）小茂鳥潤，(5)「プレス金型向けPVD 処理に適した下地処理（窒化，ピーニング，磨き）の研究」（オーエスジー（株））石田公哉，(6)「機能を生み出す「表面処理」としての加工の可能性 ～表面アーキテクチャという考え方～」（東北大学）水谷正義
URL:https://jfs.or.jp/event/%e3%80%90%e5%9f%ba%e7%a4%8e%e8%ac%9b%e5%ba%a7%e3%80%91%e8%a6%8b%e3%81%9f%e7%9b%ae%e4%bb%a5%e4%b8%8a%e3%81%ae%e4%be%a1%e5%80%a4%e3%82%92%e5%89%b5%e3%82%8b%ef%bc%81%e3%80%8c%e8%a1%a8%e9%9d%a2%e5%87%a6/
CATEGORIES:関連学協会イベント
END:VEVENT
END:VCALENDAR