BEGIN:VCALENDAR
VERSION:2.0
PRODID:-//公益社団法人 日本鋳造工学会 - ECPv6.7.0//NONSGML v1.0//EN
CALSCALE:GREGORIAN
METHOD:PUBLISH
X-ORIGINAL-URL:https://jfs.or.jp
X-WR-CALDESC:公益社団法人 日本鋳造工学会 のイベント
REFRESH-INTERVAL;VALUE=DURATION:PT1H
X-Robots-Tag:noindex
X-PUBLISHED-TTL:PT1H
BEGIN:VTIMEZONE
TZID:Asia/Tokyo
BEGIN:STANDARD
TZOFFSETFROM:+0900
TZOFFSETTO:+0900
TZNAME:JST
DTSTART:20250101T000000
END:STANDARD
END:VTIMEZONE
BEGIN:VEVENT
DTSTART;TZID=Asia/Tokyo:20250828T090000
DTEND;TZID=Asia/Tokyo:20250902T180000
DTSTAMP:20260421T083431
CREATED:20250611T025038Z
LAST-MODIFIED:20250711T012229Z
UID:18540-1756371600-1756836000@jfs.or.jp
SUMMARY:デジタルラジオグラフィに関する技術講習会－工業分野におけるデジタルラジオグラフィの基礎とその適用－
DESCRIPTION:東京地区：溶接会館（東京都千代田区），広島地区：RCC文化センター（広島県広島市）\n（一社）日本溶接協会\n\n≫ 詳細情報 \n  \nデジタルラジオグラフィに関する技術講習会－工業分野におけるデジタルラジオグラフィの基礎とその適用－ \n主催団体名:（一社）日本溶接協会 \n〇開催日時\n東京地区：2025年8月28日（木），29（金） 　9：00～18：00\n広島地区：2025年9月1日（月），2日（火）　 9：00～18：00 \n〇場所（名称・所在地）\n東京地区：溶接会館（東京都千代田区），広島地区：RCC文化センター（広島県広島市） \n〇参加費（会員・非会員等で参加費が異なる場合は具体的に）\n日本溶接協会会員41\,800円，後援団体会員44\,000円，一般52\,800円．各消費税込 \n〇定員\n36名 \n〇申込方法\n申込サイトから申し込む（https://www-it.jwes.or.jp/seminar/） \n〇連絡先・問合せ先\n（一社）日本溶接協会 非破壊試験技術実用化研究委員会事務局 今岡\nTEL．03-5823-6324 E-mail．susumu_imaoka(at)jwes.or.jp*(at)を＠に変換してください. \n〇内容\nデジタルラジオグラフィ（D-RT）に取り組もうとしている方々を対象に，試験研究の成果などを交えた講義と実習による，JIS Z 3110 を基にした講習会を実施します．初日は，講義（D-RT の基礎，システム概要，撮影技術，画像評価），2 日目は主として D-RT 画像観察の実習とし，規格に対する理解を深めるとともに実務上のポイントについて学びます．\n【初日】\n(1)「デジタルラジオグラフィの動向」（日本非破壊検査協会）大岡紀一，\n(2)「デジタルラジオグラフィ及びデジタル放射線透過画像の基礎」（富士フイルム（株））成川康則，\n(3)「デジタルラジオグラフィシステムの概要」（東京都立産業技術研究センター）河原大吾，\n(4)「F-RT 及びD-RT の撮影技術」（日本非破壊検査協会）大岡紀一，\n(5)「画像評価へのアプローチ及びD-RT 固有の画像条件（1）」（東芝検査ソリューションズ（株））西 龍司・（㈱IHI検査計測）田北雅彦，\n(6)「画像評価へのアプローチ及びD-RT 固有の画像条件（2）」（富士フイルム（株））成川康則\n【二日目】\n(7)デジタルラジオグラフィ画像観察実習 \n〇情報掲載HP URL\n\n\n\n\n								JWES:日溶協ポータルサイト\n							\n\n							\n																	\n																JWES:日溶協ポータルサイト							\n						\n \n \n\n						\n							\n						\n					\n \n \n〇情報掲載HP URL\n・『工業分野におけるデジタルラジオグラフィの基礎とその適用－フィルムからデジタルへの展開－』をテキストとして使用しますので，日本溶接協会 HP（https://www-it.jwes.or.jp/bshop/iblist.jsp）からご購入下さい（定価 4\,000 円（税込））\n・日本産業規格 JIS Z 3110：2017「溶接継手の放射線透過試験方法－デジタル検出器による X 線 γ 線撮影技術」のご持参を推奨します（日本規格協会 HP（https://webdesk.jsa.or.jp/books/W11M0010/） ご参照）
URL:https://jfs.or.jp/event/%e3%83%80%e3%82%a4%e3%82%ab%e3%82%b9%e3%83%88%e8%a3%bd%e9%80%a0%e3%81%a8%e8%a8%ad%e5%82%99%e3%81%ab%e4%bf%82%e3%82%8b%e6%9c%80%e6%96%b0%e6%8a%80%e8%a1%93%ef%bc%88%e7%ac%ac24%e5%9b%9e-%e6%97%a5/
CATEGORIES:関連学協会イベント
END:VEVENT
BEGIN:VEVENT
DTSTART;VALUE=DATE:20250909
DTEND;VALUE=DATE:20250910
DTSTAMP:20260421T083432
CREATED:20240716T054726Z
LAST-MODIFIED:20241016T022934Z
UID:16846-1757376000-1757462399@jfs.or.jp
SUMMARY:第16回世界精密鋳造会議（WCIC2025）における展示会出展のお願い
DESCRIPTION:　このたび、日本鋳造協会では、神戸市を中心に第16回世界精密鋳造会議（WCIC2025）を米国精密鋳造協会（ICI）、欧州精密鋳造協会（EICF）と共同で開催する運びとなりました。日本でのWCICの開催は2012年の京都大会（WCIC2012）以来、13年ぶりとなります。 \n会期は2025年9月9日(火)～9月12日(金)、神戸コンベンションセンターおよび国際展示場を中心に、大会期間中は、講演会、展示会、工場見学会など多くの行事が開催されます。ご存じのように、神戸市は関西国際空港からも近い政令指定都市であり、国際会議も多く開催されており、神戸市内、そして隣接する関西エリアの近県の観光スポットも多く点在している、魅力ある都市です。精密鋳造メーカーをはじめ多くの鋳造メーカー及びその関連企業、研究者の方々の参加をお待ちしております。 \n\n→→WCIC2025Webページ\n上記ホームページをご覧いただき、現在、講演募集、展示会への出展のご案内を行っております。特に展示会には国内外合わせて100ブースを目標にしておりますので、この機に出展をご検討いただけるとありがたいです。少しでもご出展をお考えの企業様におかれましては、2024年8月20日頃までに出展要領の中にある「展示会申し込みフォーム」にてご連絡頂ければ幸いです。 \n→→講演募集\n→→展示会案内\n　出展のご案内(出展要領)
URL:https://jfs.or.jp/event/wcic2025_tenjiboshu/
LOCATION:神戸コンベンションセンター\, 中央区港島中町６－11－１\, 神戸市\, 兵庫県\, 650-0046\, 日本
CATEGORIES:関連学協会イベント,公募等
ORGANIZER;CN="%E4%B8%80%E8%88%AC%E7%A4%BE%E5%9B%A3%E6%B3%95%E4%BA%BA%E3%80%80%E6%97%A5%E6%9C%AC%E9%8B%B3%E9%80%A0%E5%8D%94%E4%BC%9A%E3%80%80WCIC%E5%AE%9F%E8%A1%8C%E5%A7%94%E5%93%A1%E4%BC%9A":MAILTO:wcic2025@foundry.jp
END:VEVENT
BEGIN:VEVENT
DTSTART;VALUE=DATE:20250909
DTEND;VALUE=DATE:20250912
DTSTAMP:20260421T083432
CREATED:20250521T030308Z
LAST-MODIFIED:20250711T012204Z
UID:18382-1757376000-1757635199@jfs.or.jp
SUMMARY:第16回世界精密鋳造会議（WCIC2025）
DESCRIPTION:神戸コンベンションセンター（神戸市）\n（一社）日本鋳造協会\n\n≫ 詳細情報 \n  \n第16回世界精密鋳造会議（WCIC2025） \n主催団体名:（一社）日本鋳造協会 \n〇開催日時\n2025年9月9日(火)～11日(木) \n〇場所（名称・所在地）\n神戸コンベンションセンター（神戸市） \n〇参加費（会員・非会員等で参加費が異なる場合は具体的に）\n会員99\,000円，非会員132\,000円，学生20\,000円 \n〇申込方法\nWCIC2025のサイトから申し込む（https://site.convention.co.jp/wcic2025/）\n＜QRコード：250909鋳造協会.png入る＞ \n〇申込締め切り\n8月26日（火） \n〇連絡先・問合せ先\n（一社）日本鋳造協会\nE-mail．wcic2025(at)foundry.jp*(at)を＠に変換してください. \n〇内容\nこのたび日本鋳造協会では神戸市を中心に第16回世界精密鋳造会議（WCIC2025）を米国精密鋳造協会（ICI），欧州精密鋳造協会（EICF）と共同で開催する運びとなりました．日本でのWCICの開催は2012年の京都大会（WCIC2012）以来，13年ぶりとなります．精密鋳造メーカーをはじめ多くの鋳造メーカー及びその関連企業，研究者の方々の参加をお待ちしております．\nメインテーマ：-Investment Casting Driving Sustainable Society-\n主行事：国際会議，展示会，工場見学会，懇親会，ほか \n〇掲載情報HP　URL\nhttps://site.convention.co.jp/wcic2025/
URL:https://jfs.or.jp/event/%e7%ac%ac16%e5%9b%9e%e4%b8%96%e7%95%8c%e7%b2%be%e5%af%86%e9%8b%b3%e9%80%a0%e4%bc%9a%e8%ad%b0%ef%bc%88wcic2025%ef%bc%89/
CATEGORIES:関連学協会イベント
END:VEVENT
BEGIN:VEVENT
DTSTART;TZID=Asia/Tokyo:20250929T090000
DTEND;TZID=Asia/Tokyo:20250929T170000
DTSTAMP:20260421T083432
CREATED:20250917T020337Z
LAST-MODIFIED:20250917T020337Z
UID:18951-1759136400-1759165200@jfs.or.jp
SUMMARY:「現場の硬さ試験」講習会-基礎とその活用-
DESCRIPTION:東京都市大学世田谷キャンパス(東京都世田谷区）\n日本材料試験技術協会\n\n≫ 詳細情報 \n  \n「現場の硬さ試験」講習会-基礎とその活用- \n主催団体名:日本材料試験技術協会 \n〇開催日時\n2025年10月29日（水）　9:20～16:40 \n〇場所（名称・所在地）\n東京都市大学世田谷キャンパス(東京都世田谷区） \n〇参加費（会員・非会員等で参加費が異なる場合は具体的に）\n主催，共催団体会員24\,000円，一般28\,000円．テキスト代込み \n〇定員\n80名 \n〇申込方法\n日本材料試験技術協会ホームページから申し込む（www.mtraj.jp) \n〇申込締め切り\n10月22日（水） \n〇連絡先・問合せ先\n日本材料試験技術協会　講習会事務局：（株）山本科学工具研究社内\nTEL．047-431-7451 E-mail．gyomu2(at)ystl.jp *(at)を＠に変換してください. \n〇内容\n社会の安全を支える材料評価技術を現場的な視点で捉え活用するために，硬さ試験の本質に的を絞って基礎から応用までの最新の現場技術を紹介します．\n①「材料特性としての硬さ」（東京都市大学）白木尚人，\n②「工業量としての硬さ」（山本科学工具研究社）山本 卓，\n③「硬さ試験方法および試験機」（機械振興協会）藤塚将行，\n④「硬さ試験機の使用方法と注意点」（ミツトヨ）澤健司，\n⑤「計装化押込み試験（ナノインデンテーション試験）法と測定上の注意点」（島津製作所）關貴浩，\n⑥「硬さ基準片の現状と動向」（山本科学工具研究社）山本正之，\n⑦「現場における硬さ試験」（井谷衡機製作所）小島光司，\n⑧質疑応答 \n〇情報掲載HP URL\nwww.mtraj.jp
URL:https://jfs.or.jp/event/%e3%80%8c%e7%8f%be%e5%a0%b4%e3%81%ae%e7%a1%ac%e3%81%95%e8%a9%a6%e9%a8%93%e3%80%8d%e8%ac%9b%e7%bf%92%e4%bc%9a-%e5%9f%ba%e7%a4%8e%e3%81%a8%e3%81%9d%e3%81%ae%e6%b4%bb%e7%94%a8-2/
CATEGORIES:関連学協会イベント
END:VEVENT
END:VCALENDAR