BEGIN:VCALENDAR
VERSION:2.0
PRODID:-//公益社団法人 日本鋳造工学会 - ECPv6.7.0//NONSGML v1.0//EN
CALSCALE:GREGORIAN
METHOD:PUBLISH
X-ORIGINAL-URL:https://jfs.or.jp
X-WR-CALDESC:公益社団法人 日本鋳造工学会 のイベント
REFRESH-INTERVAL;VALUE=DURATION:PT1H
X-Robots-Tag:noindex
X-PUBLISHED-TTL:PT1H
BEGIN:VTIMEZONE
TZID:Asia/Tokyo
BEGIN:STANDARD
TZOFFSETFROM:+0900
TZOFFSETTO:+0900
TZNAME:JST
DTSTART:20260101T000000
END:STANDARD
END:VTIMEZONE
BEGIN:VEVENT
DTSTART;VALUE=DATE:20260130
DTEND;VALUE=DATE:20260131
DTSTAMP:20260426T081633
CREATED:20251113T023326Z
LAST-MODIFIED:20251113T023337Z
UID:19238-1769731200-1769817599@jfs.or.jp
SUMMARY:第187回全国講演大会オーガナイズドセッション「次世代に向けた鋳仕上げプロセス改善～人材不足・品質・安全への挑戦～」講演募集
DESCRIPTION:（公社）日本鋳造工学会\n\n第187回全国講演大会オーガナイズドセッション「次世代に向けた鋳仕上げプロセス改善～人材不足・品質・安全への挑戦～」講演募集 \n主催団体名:（公社）日本鋳造工学会 \n〇公募の内容\n鋳造業界では労働力不足が深刻化しており，特に中子工程や鋳仕上げ工程といった主要前後工程において人材確保が困難となっています．中でも鋳仕上げは，生産計画への柔軟な対応，品質の安定性，技能伝承，過酷な作業環境，外観品質保証など，多くの課題を抱えるネック工程です．また，鋳仕上げにはバリ取り・成形に加え，焼着，寸法修正，表面欠陥補修など多岐にわたる要素技術が求められ，各社が悩みを抱えながら操業しているのが現状です．\n本セッションでは，鋳仕上げ工程における共通課題を明確化し，各社の技術的取り組みや改善事例を共有することで，分野の活性化と人材不足への打開策を模索します．材質を問わず，鋳仕上げに関する技術革新の方向性を議論する場とします． \n〇応募資格\n日本鋳造工学会会員 \n〇応募方法\n講演タイトル，講演者氏名，簡単な講演概要を下記応募先までE-mailで連絡する \n〇応募締め切り\n2026年1月30日(金) \n〇対象\n日本鋳造工学会事務局　神戸　\nTEL．03-6809-2303　E-mail．jfs-kambe(at)jfs.or.jp*(at)を＠に変換してください.
URL:https://jfs.or.jp/event/%e7%ac%ac187%e5%9b%9e%e5%85%a8%e5%9b%bd%e8%ac%9b%e6%bc%94%e5%a4%a7%e4%bc%9a%e3%82%aa%e3%83%bc%e3%82%ac%e3%83%8a%e3%82%a4%e3%82%ba%e3%83%89%e3%82%bb%e3%83%83%e3%82%b7%e3%83%a7%e3%83%b3%e3%80%8c/
CATEGORIES:公募等,鋳造工学会関連イベント,全国講演大会
END:VEVENT
BEGIN:VEVENT
DTSTART;VALUE=DATE:20260131
DTEND;VALUE=DATE:20260201
DTSTAMP:20260426T081633
CREATED:20260114T030342Z
LAST-MODIFIED:20260114T030342Z
UID:19591-1769817600-1769903999@jfs.or.jp
SUMMARY:「若手活動支援金」に関わる受給者の公募
DESCRIPTION:(公社)日本鋳造工学会\n\n「若手活動支援金」に関わる受給者の公募 \n主催団体名:(公社)日本鋳造工学会 \n〇対象\n海外での講演発表等の国際交流活動及び高校生向けの鋳物授業・実験などの活動に携わる，2026（令和8）年3月31日現在で，満45歳以下の正会員，学生会員及び広く一般公募とし，自薦，他薦は問いません． \n〇公募期間\n2025（令和7）年12月1日～2026（令和8）年１月31日（期間厳守，消印有効） \n〇応募方法\n下記(1)～(4)の項目を応募用紙に記載の上郵送またはEメールで申請する（応募用紙はホームページからダウンロードできる）．\n(1)活動課題，\n(2)氏名（ふりがな），生年月日，所属並びに連絡先（住所，電話番号，Eメールアドレス等），\n(3)活動概要（内容）1000文字以内，\n(4)参考資料（海外発表や海外活動内容，高校生向け活動内容など審査に参考となる資料などはもれなく添付ください） \n〇支援額、件数\n支援額は20万円／件，2件以内 \n〇選考\n本会の選考委員会 \n〇報告義務\n当該活動について「講演発表報告」「国際交流参加報告」「活動報告」等を会誌『鋳造工学』に投稿する \n〇連絡先・問合せ先\n〒108-0023\n東京都港区芝浦4-15-33　芝浦清水ビル2階\n公益社団法人日本鋳造工学会 企画委員長宛\nTEL．03-6809-2303　FAX．03-6809-2330　E-mail．jfs-kambe(at)jfs.or.jp*(at)を＠に変換してください. \n〇情報掲載HP　URL\n\n\n\n\n								「若手活動支援金」に関わる受給者の公募【1月31日締切】\n							\n\n								「若手活動支援金」に関わる受給者を公募しています． 1. 対象 海外での講演発表等の国際交流活動及び高校生向けの鋳物授業・実験などの活動に携わる， 2026年3月31日現在…							 \n\n							\n																	\n																公益社団法人 日本鋳造工学会							\n						\n \n \n \n \n\n\n\n\n								HOME\n							\n\n								会員専用 コンテンツ 鋳造用語辞典 動画ギャラリー 鋳造工学便覧 鋳造工学 鋳造は数千年に及ぶ長い歴史を背景に， 自動車，航空，宇宙，原子力，コンピュータ産業など 先…							 \n\n							\n																	\n																公益社団法人 日本鋳造工学会
URL:https://jfs.or.jp/event/%e3%80%8c%e8%8b%a5%e6%89%8b%e6%b4%bb%e5%8b%95%e6%94%af%e6%8f%b4%e9%87%91%e3%80%8d%e3%81%ab%e9%96%a2%e3%82%8f%e3%82%8b%e5%8f%97%e7%b5%a6%e8%80%85%e3%81%ae%e5%85%ac%e5%8b%9f-2/
CATEGORIES:鋳造工学会関連イベント,公募等
END:VEVENT
BEGIN:VEVENT
DTSTART;VALUE=DATE:20260131
DTEND;VALUE=DATE:20260201
DTSTAMP:20260426T081633
CREATED:20260114T030638Z
LAST-MODIFIED:20260114T030644Z
UID:19597-1769817600-1769903999@jfs.or.jp
SUMMARY:「新東工業　鋳造技術研究奨励金」に関わる受給者公募
DESCRIPTION:(公社)日本鋳造工学会\n\n「新東工業　鋳造技術研究奨励金」に関わる受給者公募 \n主催団体名:(公社)日本鋳造工学会 \n〇対象\n鋳造技術の発展に寄与する研究に携わる，2026（令和8）年3月31日現在で，満45歳以下の若手研究者で，研究成果の海外での発表や，研究論文を海外に投稿するなどグローバルに活動していることを原則とする．自薦，他薦は問わない \n〇公募期間\n2025（令和7）年12月1日～2026（令和8）年１月31日（期間厳守，消印有効） \n〇応募方法\n下記(1)～(4)の項目を応募用紙に記載の上郵送またはEメールで申請する（応募用紙はホームページからダウンロードできる）．\n(1)研究題目．\n(2)氏名，生年月日，所属並びに連絡先（住所，電話番号，Eメールアドレス等）．\n(3)研究概要（内容）1000文字以内．\n(4)参考資料（講演発表，論文等投稿実績など審査に参考となる資料，特に海外発表，英文誌投稿論文などはもれなく添付する） \n〇奨励額，人員\n奨励学は30万円，毎年1名 \n〇報告義務\n当該研究成果を本会会長を通し新東工業(株)に書面で報告（年度末），また，研究論文，技術論文，技術報告，研究速報又は技術速報を会誌『鋳造工学』に投稿する．なお，投稿記事は新東工業社内報にも掲載される． \n〇連絡先・問合せ先\n〒108-0023\n東京都港区芝浦4-15-33　芝浦清水ビル2階\n公益社団法人日本鋳造工学会 企画委員長宛\nTEL．03-6809-2303　FAX．03-6809-2330　E-mail．jfs-kambe(at)jfs.or.jp*(at)を＠に変換してください. \n〇情報掲載HP　URL\n\n\n\n\n								「新東工業　鋳造技術研究奨励金」に関わる受給者公募【1月31日締切】\n							\n\n								「新東工業　鋳造技術研究奨励金」に関わる受給者を公募しています． 1. 対象 鋳造技術の発展に寄与する研究に携わる，2026年3月31日現在で，満45歳以下の若手研究者で， …							 \n\n							\n																	\n																公益社団法人 日本鋳造工学会							\n						\n \n \n \n \n\n\n\n\n								HOME\n							\n\n								会員専用 コンテンツ 鋳造用語辞典 動画ギャラリー 鋳造工学便覧 鋳造工学 鋳造は数千年に及ぶ長い歴史を背景に， 自動車，航空，宇宙，原子力，コンピュータ産業など 先…							 \n\n							\n																	\n																公益社団法人 日本鋳造工学会
URL:https://jfs.or.jp/event/%e3%80%8c%e6%96%b0%e6%9d%b1%e5%b7%a5%e6%a5%ad%e3%80%80%e9%8b%b3%e9%80%a0%e6%8a%80%e8%a1%93%e7%a0%94%e7%a9%b6%e5%a5%a8%e5%8a%b1%e9%87%91%e3%80%8d%e3%81%ab%e9%96%a2%e3%82%8f%e3%82%8b%e5%8f%97%e7%b5%a6/
CATEGORIES:鋳造工学会関連イベント,公募等
END:VEVENT
BEGIN:VEVENT
DTSTART;VALUE=DATE:20260131
DTEND;VALUE=DATE:20260201
DTSTAMP:20260426T081633
CREATED:20260114T030653Z
LAST-MODIFIED:20260114T030653Z
UID:19595-1769817600-1769903999@jfs.or.jp
SUMMARY:「若手研究奨励金」に関わる研究課題の公募
DESCRIPTION:(公社)日本鋳造工学会\n\n「若手研究奨励金」に関わる研究課題の公募 \n主催団体名:(公社)日本鋳造工学会 \n〇対象\n大学・国公立及びこれに準ずる試験研究機関において，鋳造工学に関する学問・技術を研究する2026（令和8）年3月31日現在で，満45歳以下の若手研究者個人，並びに満45歳以下の若手研究者で構成するグループとする．大学院生については博士後期課程に在学，または進学が決まっている者で，指導教員の推薦のある者とする． \n〇公募期間\n2025（令和7）年12月1日～2026（令和8）年１月31日（期間厳守，消印有効） \n〇応募方法\n下記(1)～(4)の項目を応募用紙に記載の上郵送またはEメールで申請する（応募用紙はホームページからダウンロードできる）．\n(1)研究題目（副題可），\n(2)氏名，生年月日，勤務先，所属並びに連絡先，\n(3)研究概要（内容）1\,000文字以内．わかりやすく簡潔に．\n(4)今までに当学会の会誌（題名及び掲載Vol.年，頁）・講演大会（第***回）での発表の有無 \n〇授与\n50万円（5件以内／年） \n〇研究期間\n１年間とする \n〇報告義務\n受給者は１年間の研究期間を経た１年以内に申請課題に関連する研究発表及び論文を本学会誌に投稿する義務を負い，本義務に関する誓約書を会長宛に提出する． \n〇連絡先・問合せ先\n〒108-0023\n東京都港区芝浦4-15-33　芝浦清水ビル2階\n公益社団法人日本鋳造工学会 企画委員長宛\nTEL．03-6809-2303　FAX．03-6809-2330　E-mail．jfs-kambe(at)jfs.or.jp*(at)を＠に変換してください. \n〇情報掲載HP　URL\n\n\n\n\n								「若手研究奨励金」に関わる研究課題の公募【1月31日締切】\n							\n\n								「若手研究奨励金」に関わる研究課題を公募しています． 1. 対象 大学・国公立及びこれに準ずる試験研究機関において，鋳造工学に関する学問・技術を 研究する2026年3月31…							 \n\n							\n																	\n																公益社団法人 日本鋳造工学会							\n						\n \n \n \n \n\n\n\n\n								HOME\n							\n\n								会員専用 コンテンツ 鋳造用語辞典 動画ギャラリー 鋳造工学便覧 鋳造工学 鋳造は数千年に及ぶ長い歴史を背景に， 自動車，航空，宇宙，原子力，コンピュータ産業など 先…							 \n\n							\n																	\n																公益社団法人 日本鋳造工学会
URL:https://jfs.or.jp/event/%e3%80%8c%e8%8b%a5%e6%89%8b%e7%a0%94%e7%a9%b6%e5%a5%a8%e5%8a%b1%e9%87%91%e3%80%8d%e3%81%ab%e9%96%a2%e3%82%8f%e3%82%8b%e7%a0%94%e7%a9%b6%e8%aa%b2%e9%a1%8c%e3%81%ae%e5%85%ac%e5%8b%9f-2/
CATEGORIES:鋳造工学会関連イベント,公募等
END:VEVENT
END:VCALENDAR