BEGIN:VCALENDAR
VERSION:2.0
PRODID:-//公益社団法人 日本鋳造工学会 - ECPv6.7.0//NONSGML v1.0//EN
CALSCALE:GREGORIAN
METHOD:PUBLISH
X-ORIGINAL-URL:https://jfs.or.jp
X-WR-CALDESC:公益社団法人 日本鋳造工学会 のイベント
REFRESH-INTERVAL;VALUE=DURATION:PT1H
X-Robots-Tag:noindex
X-PUBLISHED-TTL:PT1H
BEGIN:VTIMEZONE
TZID:Asia/Tokyo
BEGIN:STANDARD
TZOFFSETFROM:+0900
TZOFFSETTO:+0900
TZNAME:JST
DTSTART:20240101T000000
END:STANDARD
END:VTIMEZONE
BEGIN:VEVENT
DTSTART;VALUE=DATE:20241025
DTEND;VALUE=DATE:20241026
DTSTAMP:20260426T054019
CREATED:20240625T070213Z
LAST-MODIFIED:20241016T023744Z
UID:16591-1729814400-1729900799@jfs.or.jp
SUMMARY:第184回全国講演大会
DESCRIPTION:開催場所：富山国際会議場（富山県富山市）／オンライン（Zoom)\n連絡先：日本鋳造工学会\n\n      →第184回全国講演大会ご案内へ \n　　→講演募集のサイトへ
URL:https://jfs.or.jp/event/%e7%ac%ac184%e5%9b%9e%e5%85%a8%e5%9b%bd%e8%ac%9b%e6%bc%94%e5%a4%a7%e4%bc%9a/
CATEGORIES:全国講演大会
END:VEVENT
END:VCALENDAR